BEGIN:VCALENDAR
VERSION:2.0
PRODID:-//Way Out Womens Center - ECPv6.15.20//NONSGML v1.0//EN
CALSCALE:GREGORIAN
METHOD:PUBLISH
X-ORIGINAL-URL:https://wayoutcenter.com
X-WR-CALDESC:Events for Way Out Womens Center
REFRESH-INTERVAL;VALUE=DURATION:PT1H
X-Robots-Tag:noindex
X-PUBLISHED-TTL:PT1H
BEGIN:VTIMEZONE
TZID:America/Chicago
BEGIN:DAYLIGHT
TZOFFSETFROM:-0600
TZOFFSETTO:-0500
TZNAME:CDT
DTSTART:20280312T080000
END:DAYLIGHT
BEGIN:STANDARD
TZOFFSETFROM:-0500
TZOFFSETTO:-0600
TZNAME:CST
DTSTART:20281105T070000
END:STANDARD
BEGIN:DAYLIGHT
TZOFFSETFROM:-0600
TZOFFSETTO:-0500
TZNAME:CDT
DTSTART:20290311T080000
END:DAYLIGHT
BEGIN:STANDARD
TZOFFSETFROM:-0500
TZOFFSETTO:-0600
TZNAME:CST
DTSTART:20291104T070000
END:STANDARD
BEGIN:DAYLIGHT
TZOFFSETFROM:-0600
TZOFFSETTO:-0500
TZNAME:CDT
DTSTART:20300310T080000
END:DAYLIGHT
BEGIN:STANDARD
TZOFFSETFROM:-0500
TZOFFSETTO:-0600
TZNAME:CST
DTSTART:20301103T070000
END:STANDARD
BEGIN:DAYLIGHT
TZOFFSETFROM:-0600
TZOFFSETTO:-0500
TZNAME:CDT
DTSTART:20310309T080000
END:DAYLIGHT
BEGIN:STANDARD
TZOFFSETFROM:-0500
TZOFFSETTO:-0600
TZNAME:CST
DTSTART:20311102T070000
END:STANDARD
END:VTIMEZONE
BEGIN:VEVENT
DTSTART;TZID=America/Chicago:20291226T190000
DTEND;TZID=America/Chicago:20291226T200000
DTSTAMP:20260420T120401
CREATED:20241209T182141Z
LAST-MODIFIED:20250714T234159Z
UID:10003845-1893006000-1893009600@wayoutcenter.com
SUMMARY:WOW! It Works! Women's Meeting
DESCRIPTION:Join us for WOW! It Works\, our WEEKLY WOMEN’S MEETING at our beautiful new home at 2670 Avenue D\, San Leon\, TX 77539!\n\n\n \n\n\n📅 When: Every Wednesday beginning December 11th\n\n\n⏰ Time: 7 PM \n\n\n \n\n\nThis is a chance to continue supporting the women who find hope and healing at The Way Out Women’s Center.
URL:https://wayoutcenter.com/event/wow-it-works-womens-aa-meeting/2029-12-26/
LOCATION:Way Out Womens Center\, 2670 Ave. D\, San Leon\, TX\, 77539\, United States
CATEGORIES:WOW It Works
ATTACH;FMTTYPE=image/png:https://wayoutcenter.com/wp-content/uploads/2024/12/WOW-It-Works-1.png
END:VEVENT
BEGIN:VEVENT
DTSTART;TZID=America/Chicago:20300102T190000
DTEND;TZID=America/Chicago:20300102T200000
DTSTAMP:20260420T120401
CREATED:20241209T182141Z
LAST-MODIFIED:20250714T234159Z
UID:10003846-1893610800-1893614400@wayoutcenter.com
SUMMARY:WOW! It Works! Women's Meeting
DESCRIPTION:Join us for WOW! It Works\, our WEEKLY WOMEN’S MEETING at our beautiful new home at 2670 Avenue D\, San Leon\, TX 77539!\n\n\n \n\n\n📅 When: Every Wednesday beginning December 11th\n\n\n⏰ Time: 7 PM \n\n\n \n\n\nThis is a chance to continue supporting the women who find hope and healing at The Way Out Women’s Center.
URL:https://wayoutcenter.com/event/wow-it-works-womens-aa-meeting/2030-01-02/
LOCATION:Way Out Womens Center\, 2670 Ave. D\, San Leon\, TX\, 77539\, United States
CATEGORIES:WOW It Works
ATTACH;FMTTYPE=image/png:https://wayoutcenter.com/wp-content/uploads/2024/12/WOW-It-Works-1.png
END:VEVENT
BEGIN:VEVENT
DTSTART;TZID=America/Chicago:20300109T190000
DTEND;TZID=America/Chicago:20300109T200000
DTSTAMP:20260420T120402
CREATED:20241209T182141Z
LAST-MODIFIED:20250714T234159Z
UID:10003847-1894215600-1894219200@wayoutcenter.com
SUMMARY:WOW! It Works! Women's Meeting
DESCRIPTION:Join us for WOW! It Works\, our WEEKLY WOMEN’S MEETING at our beautiful new home at 2670 Avenue D\, San Leon\, TX 77539!\n\n\n \n\n\n📅 When: Every Wednesday beginning December 11th\n\n\n⏰ Time: 7 PM \n\n\n \n\n\nThis is a chance to continue supporting the women who find hope and healing at The Way Out Women’s Center.
URL:https://wayoutcenter.com/event/wow-it-works-womens-aa-meeting/2030-01-09/
LOCATION:Way Out Womens Center\, 2670 Ave. D\, San Leon\, TX\, 77539\, United States
CATEGORIES:WOW It Works
ATTACH;FMTTYPE=image/png:https://wayoutcenter.com/wp-content/uploads/2024/12/WOW-It-Works-1.png
END:VEVENT
BEGIN:VEVENT
DTSTART;TZID=America/Chicago:20300116T190000
DTEND;TZID=America/Chicago:20300116T200000
DTSTAMP:20260420T120402
CREATED:20241209T182141Z
LAST-MODIFIED:20250714T234159Z
UID:10003848-1894820400-1894824000@wayoutcenter.com
SUMMARY:WOW! It Works! Women's Meeting
DESCRIPTION:Join us for WOW! It Works\, our WEEKLY WOMEN’S MEETING at our beautiful new home at 2670 Avenue D\, San Leon\, TX 77539!\n\n\n \n\n\n📅 When: Every Wednesday beginning December 11th\n\n\n⏰ Time: 7 PM \n\n\n \n\n\nThis is a chance to continue supporting the women who find hope and healing at The Way Out Women’s Center.
URL:https://wayoutcenter.com/event/wow-it-works-womens-aa-meeting/2030-01-16/
LOCATION:Way Out Womens Center\, 2670 Ave. D\, San Leon\, TX\, 77539\, United States
CATEGORIES:WOW It Works
ATTACH;FMTTYPE=image/png:https://wayoutcenter.com/wp-content/uploads/2024/12/WOW-It-Works-1.png
END:VEVENT
BEGIN:VEVENT
DTSTART;TZID=America/Chicago:20300123T190000
DTEND;TZID=America/Chicago:20300123T200000
DTSTAMP:20260420T120402
CREATED:20241209T182141Z
LAST-MODIFIED:20250714T234159Z
UID:10003849-1895425200-1895428800@wayoutcenter.com
SUMMARY:WOW! It Works! Women's Meeting
DESCRIPTION:Join us for WOW! It Works\, our WEEKLY WOMEN’S MEETING at our beautiful new home at 2670 Avenue D\, San Leon\, TX 77539!\n\n\n \n\n\n📅 When: Every Wednesday beginning December 11th\n\n\n⏰ Time: 7 PM \n\n\n \n\n\nThis is a chance to continue supporting the women who find hope and healing at The Way Out Women’s Center.
URL:https://wayoutcenter.com/event/wow-it-works-womens-aa-meeting/2030-01-23/
LOCATION:Way Out Womens Center\, 2670 Ave. D\, San Leon\, TX\, 77539\, United States
CATEGORIES:WOW It Works
ATTACH;FMTTYPE=image/png:https://wayoutcenter.com/wp-content/uploads/2024/12/WOW-It-Works-1.png
END:VEVENT
BEGIN:VEVENT
DTSTART;TZID=America/Chicago:20300130T190000
DTEND;TZID=America/Chicago:20300130T200000
DTSTAMP:20260420T120402
CREATED:20241209T182141Z
LAST-MODIFIED:20250714T234159Z
UID:10003850-1896030000-1896033600@wayoutcenter.com
SUMMARY:WOW! It Works! Women's Meeting
DESCRIPTION:Join us for WOW! It Works\, our WEEKLY WOMEN’S MEETING at our beautiful new home at 2670 Avenue D\, San Leon\, TX 77539!\n\n\n \n\n\n📅 When: Every Wednesday beginning December 11th\n\n\n⏰ Time: 7 PM \n\n\n \n\n\nThis is a chance to continue supporting the women who find hope and healing at The Way Out Women’s Center.
URL:https://wayoutcenter.com/event/wow-it-works-womens-aa-meeting/2030-01-30/
LOCATION:Way Out Womens Center\, 2670 Ave. D\, San Leon\, TX\, 77539\, United States
CATEGORIES:WOW It Works
ATTACH;FMTTYPE=image/png:https://wayoutcenter.com/wp-content/uploads/2024/12/WOW-It-Works-1.png
END:VEVENT
BEGIN:VEVENT
DTSTART;TZID=America/Chicago:20300206T190000
DTEND;TZID=America/Chicago:20300206T200000
DTSTAMP:20260420T120402
CREATED:20241209T182141Z
LAST-MODIFIED:20250714T234159Z
UID:10003851-1896634800-1896638400@wayoutcenter.com
SUMMARY:WOW! It Works! Women's Meeting
DESCRIPTION:Join us for WOW! It Works\, our WEEKLY WOMEN’S MEETING at our beautiful new home at 2670 Avenue D\, San Leon\, TX 77539!\n\n\n \n\n\n📅 When: Every Wednesday beginning December 11th\n\n\n⏰ Time: 7 PM \n\n\n \n\n\nThis is a chance to continue supporting the women who find hope and healing at The Way Out Women’s Center.
URL:https://wayoutcenter.com/event/wow-it-works-womens-aa-meeting/2030-02-06/
LOCATION:Way Out Womens Center\, 2670 Ave. D\, San Leon\, TX\, 77539\, United States
CATEGORIES:WOW It Works
ATTACH;FMTTYPE=image/png:https://wayoutcenter.com/wp-content/uploads/2024/12/WOW-It-Works-1.png
END:VEVENT
BEGIN:VEVENT
DTSTART;TZID=America/Chicago:20300213T190000
DTEND;TZID=America/Chicago:20300213T200000
DTSTAMP:20260420T120402
CREATED:20241209T182141Z
LAST-MODIFIED:20250714T234159Z
UID:10003852-1897239600-1897243200@wayoutcenter.com
SUMMARY:WOW! It Works! Women's Meeting
DESCRIPTION:Join us for WOW! It Works\, our WEEKLY WOMEN’S MEETING at our beautiful new home at 2670 Avenue D\, San Leon\, TX 77539!\n\n\n \n\n\n📅 When: Every Wednesday beginning December 11th\n\n\n⏰ Time: 7 PM \n\n\n \n\n\nThis is a chance to continue supporting the women who find hope and healing at The Way Out Women’s Center.
URL:https://wayoutcenter.com/event/wow-it-works-womens-aa-meeting/2030-02-13/
LOCATION:Way Out Womens Center\, 2670 Ave. D\, San Leon\, TX\, 77539\, United States
CATEGORIES:WOW It Works
ATTACH;FMTTYPE=image/png:https://wayoutcenter.com/wp-content/uploads/2024/12/WOW-It-Works-1.png
END:VEVENT
BEGIN:VEVENT
DTSTART;TZID=America/Chicago:20300220T190000
DTEND;TZID=America/Chicago:20300220T200000
DTSTAMP:20260420T120402
CREATED:20241209T182141Z
LAST-MODIFIED:20250714T234159Z
UID:10003853-1897844400-1897848000@wayoutcenter.com
SUMMARY:WOW! It Works! Women's Meeting
DESCRIPTION:Join us for WOW! It Works\, our WEEKLY WOMEN’S MEETING at our beautiful new home at 2670 Avenue D\, San Leon\, TX 77539!\n\n\n \n\n\n📅 When: Every Wednesday beginning December 11th\n\n\n⏰ Time: 7 PM \n\n\n \n\n\nThis is a chance to continue supporting the women who find hope and healing at The Way Out Women’s Center.
URL:https://wayoutcenter.com/event/wow-it-works-womens-aa-meeting/2030-02-20/
LOCATION:Way Out Womens Center\, 2670 Ave. D\, San Leon\, TX\, 77539\, United States
CATEGORIES:WOW It Works
ATTACH;FMTTYPE=image/png:https://wayoutcenter.com/wp-content/uploads/2024/12/WOW-It-Works-1.png
END:VEVENT
BEGIN:VEVENT
DTSTART;TZID=America/Chicago:20300227T190000
DTEND;TZID=America/Chicago:20300227T200000
DTSTAMP:20260420T120402
CREATED:20241209T182141Z
LAST-MODIFIED:20250714T234159Z
UID:10003854-1898449200-1898452800@wayoutcenter.com
SUMMARY:WOW! It Works! Women's Meeting
DESCRIPTION:Join us for WOW! It Works\, our WEEKLY WOMEN’S MEETING at our beautiful new home at 2670 Avenue D\, San Leon\, TX 77539!\n\n\n \n\n\n📅 When: Every Wednesday beginning December 11th\n\n\n⏰ Time: 7 PM \n\n\n \n\n\nThis is a chance to continue supporting the women who find hope and healing at The Way Out Women’s Center.
URL:https://wayoutcenter.com/event/wow-it-works-womens-aa-meeting/2030-02-27/
LOCATION:Way Out Womens Center\, 2670 Ave. D\, San Leon\, TX\, 77539\, United States
CATEGORIES:WOW It Works
ATTACH;FMTTYPE=image/png:https://wayoutcenter.com/wp-content/uploads/2024/12/WOW-It-Works-1.png
END:VEVENT
BEGIN:VEVENT
DTSTART;TZID=America/Chicago:20300306T190000
DTEND;TZID=America/Chicago:20300306T200000
DTSTAMP:20260420T120402
CREATED:20241209T182141Z
LAST-MODIFIED:20250714T234159Z
UID:10003855-1899054000-1899057600@wayoutcenter.com
SUMMARY:WOW! It Works! Women's Meeting
DESCRIPTION:Join us for WOW! It Works\, our WEEKLY WOMEN’S MEETING at our beautiful new home at 2670 Avenue D\, San Leon\, TX 77539!\n\n\n \n\n\n📅 When: Every Wednesday beginning December 11th\n\n\n⏰ Time: 7 PM \n\n\n \n\n\nThis is a chance to continue supporting the women who find hope and healing at The Way Out Women’s Center.
URL:https://wayoutcenter.com/event/wow-it-works-womens-aa-meeting/2030-03-06/
LOCATION:Way Out Womens Center\, 2670 Ave. D\, San Leon\, TX\, 77539\, United States
CATEGORIES:WOW It Works
ATTACH;FMTTYPE=image/png:https://wayoutcenter.com/wp-content/uploads/2024/12/WOW-It-Works-1.png
END:VEVENT
BEGIN:VEVENT
DTSTART;TZID=America/Chicago:20300313T190000
DTEND;TZID=America/Chicago:20300313T200000
DTSTAMP:20260420T120402
CREATED:20241209T182141Z
LAST-MODIFIED:20250714T234159Z
UID:10003856-1899658800-1899662400@wayoutcenter.com
SUMMARY:WOW! It Works! Women's Meeting
DESCRIPTION:Join us for WOW! It Works\, our WEEKLY WOMEN’S MEETING at our beautiful new home at 2670 Avenue D\, San Leon\, TX 77539!\n\n\n \n\n\n📅 When: Every Wednesday beginning December 11th\n\n\n⏰ Time: 7 PM \n\n\n \n\n\nThis is a chance to continue supporting the women who find hope and healing at The Way Out Women’s Center.
URL:https://wayoutcenter.com/event/wow-it-works-womens-aa-meeting/2030-03-13/
LOCATION:Way Out Womens Center\, 2670 Ave. D\, San Leon\, TX\, 77539\, United States
CATEGORIES:WOW It Works
ATTACH;FMTTYPE=image/png:https://wayoutcenter.com/wp-content/uploads/2024/12/WOW-It-Works-1.png
END:VEVENT
BEGIN:VEVENT
DTSTART;TZID=America/Chicago:20300320T190000
DTEND;TZID=America/Chicago:20300320T200000
DTSTAMP:20260420T120402
CREATED:20241209T182141Z
LAST-MODIFIED:20250714T234159Z
UID:10003857-1900263600-1900267200@wayoutcenter.com
SUMMARY:WOW! It Works! Women's Meeting
DESCRIPTION:Join us for WOW! It Works\, our WEEKLY WOMEN’S MEETING at our beautiful new home at 2670 Avenue D\, San Leon\, TX 77539!\n\n\n \n\n\n📅 When: Every Wednesday beginning December 11th\n\n\n⏰ Time: 7 PM \n\n\n \n\n\nThis is a chance to continue supporting the women who find hope and healing at The Way Out Women’s Center.
URL:https://wayoutcenter.com/event/wow-it-works-womens-aa-meeting/2030-03-20/
LOCATION:Way Out Womens Center\, 2670 Ave. D\, San Leon\, TX\, 77539\, United States
CATEGORIES:WOW It Works
ATTACH;FMTTYPE=image/png:https://wayoutcenter.com/wp-content/uploads/2024/12/WOW-It-Works-1.png
END:VEVENT
BEGIN:VEVENT
DTSTART;TZID=America/Chicago:20300327T190000
DTEND;TZID=America/Chicago:20300327T200000
DTSTAMP:20260420T120402
CREATED:20241209T182141Z
LAST-MODIFIED:20250714T234159Z
UID:10003858-1900868400-1900872000@wayoutcenter.com
SUMMARY:WOW! It Works! Women's Meeting
DESCRIPTION:Join us for WOW! It Works\, our WEEKLY WOMEN’S MEETING at our beautiful new home at 2670 Avenue D\, San Leon\, TX 77539!\n\n\n \n\n\n📅 When: Every Wednesday beginning December 11th\n\n\n⏰ Time: 7 PM \n\n\n \n\n\nThis is a chance to continue supporting the women who find hope and healing at The Way Out Women’s Center.
URL:https://wayoutcenter.com/event/wow-it-works-womens-aa-meeting/2030-03-27/
LOCATION:Way Out Womens Center\, 2670 Ave. D\, San Leon\, TX\, 77539\, United States
CATEGORIES:WOW It Works
ATTACH;FMTTYPE=image/png:https://wayoutcenter.com/wp-content/uploads/2024/12/WOW-It-Works-1.png
END:VEVENT
BEGIN:VEVENT
DTSTART;TZID=America/Chicago:20300403T190000
DTEND;TZID=America/Chicago:20300403T200000
DTSTAMP:20260420T120402
CREATED:20241209T182141Z
LAST-MODIFIED:20250714T234159Z
UID:10003859-1901473200-1901476800@wayoutcenter.com
SUMMARY:WOW! It Works! Women's Meeting
DESCRIPTION:Join us for WOW! It Works\, our WEEKLY WOMEN’S MEETING at our beautiful new home at 2670 Avenue D\, San Leon\, TX 77539!\n\n\n \n\n\n📅 When: Every Wednesday beginning December 11th\n\n\n⏰ Time: 7 PM \n\n\n \n\n\nThis is a chance to continue supporting the women who find hope and healing at The Way Out Women’s Center.
URL:https://wayoutcenter.com/event/wow-it-works-womens-aa-meeting/2030-04-03/
LOCATION:Way Out Womens Center\, 2670 Ave. D\, San Leon\, TX\, 77539\, United States
CATEGORIES:WOW It Works
ATTACH;FMTTYPE=image/png:https://wayoutcenter.com/wp-content/uploads/2024/12/WOW-It-Works-1.png
END:VEVENT
BEGIN:VEVENT
DTSTART;TZID=America/Chicago:20300410T190000
DTEND;TZID=America/Chicago:20300410T200000
DTSTAMP:20260420T120402
CREATED:20241209T182141Z
LAST-MODIFIED:20250714T234159Z
UID:10003860-1902078000-1902081600@wayoutcenter.com
SUMMARY:WOW! It Works! Women's Meeting
DESCRIPTION:Join us for WOW! It Works\, our WEEKLY WOMEN’S MEETING at our beautiful new home at 2670 Avenue D\, San Leon\, TX 77539!\n\n\n \n\n\n📅 When: Every Wednesday beginning December 11th\n\n\n⏰ Time: 7 PM \n\n\n \n\n\nThis is a chance to continue supporting the women who find hope and healing at The Way Out Women’s Center.
URL:https://wayoutcenter.com/event/wow-it-works-womens-aa-meeting/2030-04-10/
LOCATION:Way Out Womens Center\, 2670 Ave. D\, San Leon\, TX\, 77539\, United States
CATEGORIES:WOW It Works
ATTACH;FMTTYPE=image/png:https://wayoutcenter.com/wp-content/uploads/2024/12/WOW-It-Works-1.png
END:VEVENT
BEGIN:VEVENT
DTSTART;TZID=America/Chicago:20300417T190000
DTEND;TZID=America/Chicago:20300417T200000
DTSTAMP:20260420T120402
CREATED:20241209T182141Z
LAST-MODIFIED:20250714T234159Z
UID:10003861-1902682800-1902686400@wayoutcenter.com
SUMMARY:WOW! It Works! Women's Meeting
DESCRIPTION:Join us for WOW! It Works\, our WEEKLY WOMEN’S MEETING at our beautiful new home at 2670 Avenue D\, San Leon\, TX 77539!\n\n\n \n\n\n📅 When: Every Wednesday beginning December 11th\n\n\n⏰ Time: 7 PM \n\n\n \n\n\nThis is a chance to continue supporting the women who find hope and healing at The Way Out Women’s Center.
URL:https://wayoutcenter.com/event/wow-it-works-womens-aa-meeting/2030-04-17/
LOCATION:Way Out Womens Center\, 2670 Ave. D\, San Leon\, TX\, 77539\, United States
CATEGORIES:WOW It Works
ATTACH;FMTTYPE=image/png:https://wayoutcenter.com/wp-content/uploads/2024/12/WOW-It-Works-1.png
END:VEVENT
BEGIN:VEVENT
DTSTART;TZID=America/Chicago:20300424T190000
DTEND;TZID=America/Chicago:20300424T200000
DTSTAMP:20260420T120402
CREATED:20241209T182141Z
LAST-MODIFIED:20250714T234159Z
UID:10003862-1903287600-1903291200@wayoutcenter.com
SUMMARY:WOW! It Works! Women's Meeting
DESCRIPTION:Join us for WOW! It Works\, our WEEKLY WOMEN’S MEETING at our beautiful new home at 2670 Avenue D\, San Leon\, TX 77539!\n\n\n \n\n\n📅 When: Every Wednesday beginning December 11th\n\n\n⏰ Time: 7 PM \n\n\n \n\n\nThis is a chance to continue supporting the women who find hope and healing at The Way Out Women’s Center.
URL:https://wayoutcenter.com/event/wow-it-works-womens-aa-meeting/2030-04-24/
LOCATION:Way Out Womens Center\, 2670 Ave. D\, San Leon\, TX\, 77539\, United States
CATEGORIES:WOW It Works
ATTACH;FMTTYPE=image/png:https://wayoutcenter.com/wp-content/uploads/2024/12/WOW-It-Works-1.png
END:VEVENT
BEGIN:VEVENT
DTSTART;TZID=America/Chicago:20300501T190000
DTEND;TZID=America/Chicago:20300501T200000
DTSTAMP:20260420T120402
CREATED:20241209T182141Z
LAST-MODIFIED:20250714T234159Z
UID:10003863-1903892400-1903896000@wayoutcenter.com
SUMMARY:WOW! It Works! Women's Meeting
DESCRIPTION:Join us for WOW! It Works\, our WEEKLY WOMEN’S MEETING at our beautiful new home at 2670 Avenue D\, San Leon\, TX 77539!\n\n\n \n\n\n📅 When: Every Wednesday beginning December 11th\n\n\n⏰ Time: 7 PM \n\n\n \n\n\nThis is a chance to continue supporting the women who find hope and healing at The Way Out Women’s Center.
URL:https://wayoutcenter.com/event/wow-it-works-womens-aa-meeting/2030-05-01/
LOCATION:Way Out Womens Center\, 2670 Ave. D\, San Leon\, TX\, 77539\, United States
CATEGORIES:WOW It Works
ATTACH;FMTTYPE=image/png:https://wayoutcenter.com/wp-content/uploads/2024/12/WOW-It-Works-1.png
END:VEVENT
BEGIN:VEVENT
DTSTART;TZID=America/Chicago:20300508T190000
DTEND;TZID=America/Chicago:20300508T200000
DTSTAMP:20260420T120402
CREATED:20241209T182141Z
LAST-MODIFIED:20250714T234159Z
UID:10003864-1904497200-1904500800@wayoutcenter.com
SUMMARY:WOW! It Works! Women's Meeting
DESCRIPTION:Join us for WOW! It Works\, our WEEKLY WOMEN’S MEETING at our beautiful new home at 2670 Avenue D\, San Leon\, TX 77539!\n\n\n \n\n\n📅 When: Every Wednesday beginning December 11th\n\n\n⏰ Time: 7 PM \n\n\n \n\n\nThis is a chance to continue supporting the women who find hope and healing at The Way Out Women’s Center.
URL:https://wayoutcenter.com/event/wow-it-works-womens-aa-meeting/2030-05-08/
LOCATION:Way Out Womens Center\, 2670 Ave. D\, San Leon\, TX\, 77539\, United States
CATEGORIES:WOW It Works
ATTACH;FMTTYPE=image/png:https://wayoutcenter.com/wp-content/uploads/2024/12/WOW-It-Works-1.png
END:VEVENT
BEGIN:VEVENT
DTSTART;TZID=America/Chicago:20300515T190000
DTEND;TZID=America/Chicago:20300515T200000
DTSTAMP:20260420T120402
CREATED:20241209T182141Z
LAST-MODIFIED:20250714T234159Z
UID:10003865-1905102000-1905105600@wayoutcenter.com
SUMMARY:WOW! It Works! Women's Meeting
DESCRIPTION:Join us for WOW! It Works\, our WEEKLY WOMEN’S MEETING at our beautiful new home at 2670 Avenue D\, San Leon\, TX 77539!\n\n\n \n\n\n📅 When: Every Wednesday beginning December 11th\n\n\n⏰ Time: 7 PM \n\n\n \n\n\nThis is a chance to continue supporting the women who find hope and healing at The Way Out Women’s Center.
URL:https://wayoutcenter.com/event/wow-it-works-womens-aa-meeting/2030-05-15/
LOCATION:Way Out Womens Center\, 2670 Ave. D\, San Leon\, TX\, 77539\, United States
CATEGORIES:WOW It Works
ATTACH;FMTTYPE=image/png:https://wayoutcenter.com/wp-content/uploads/2024/12/WOW-It-Works-1.png
END:VEVENT
BEGIN:VEVENT
DTSTART;TZID=America/Chicago:20300522T190000
DTEND;TZID=America/Chicago:20300522T200000
DTSTAMP:20260420T120402
CREATED:20241209T182141Z
LAST-MODIFIED:20250714T234159Z
UID:10003866-1905706800-1905710400@wayoutcenter.com
SUMMARY:WOW! It Works! Women's Meeting
DESCRIPTION:Join us for WOW! It Works\, our WEEKLY WOMEN’S MEETING at our beautiful new home at 2670 Avenue D\, San Leon\, TX 77539!\n\n\n \n\n\n📅 When: Every Wednesday beginning December 11th\n\n\n⏰ Time: 7 PM \n\n\n \n\n\nThis is a chance to continue supporting the women who find hope and healing at The Way Out Women’s Center.
URL:https://wayoutcenter.com/event/wow-it-works-womens-aa-meeting/2030-05-22/
LOCATION:Way Out Womens Center\, 2670 Ave. D\, San Leon\, TX\, 77539\, United States
CATEGORIES:WOW It Works
ATTACH;FMTTYPE=image/png:https://wayoutcenter.com/wp-content/uploads/2024/12/WOW-It-Works-1.png
END:VEVENT
BEGIN:VEVENT
DTSTART;TZID=America/Chicago:20300529T190000
DTEND;TZID=America/Chicago:20300529T200000
DTSTAMP:20260420T120402
CREATED:20241209T182141Z
LAST-MODIFIED:20250714T234159Z
UID:10003867-1906311600-1906315200@wayoutcenter.com
SUMMARY:WOW! It Works! Women's Meeting
DESCRIPTION:Join us for WOW! It Works\, our WEEKLY WOMEN’S MEETING at our beautiful new home at 2670 Avenue D\, San Leon\, TX 77539!\n\n\n \n\n\n📅 When: Every Wednesday beginning December 11th\n\n\n⏰ Time: 7 PM \n\n\n \n\n\nThis is a chance to continue supporting the women who find hope and healing at The Way Out Women’s Center.
URL:https://wayoutcenter.com/event/wow-it-works-womens-aa-meeting/2030-05-29/
LOCATION:Way Out Womens Center\, 2670 Ave. D\, San Leon\, TX\, 77539\, United States
CATEGORIES:WOW It Works
ATTACH;FMTTYPE=image/png:https://wayoutcenter.com/wp-content/uploads/2024/12/WOW-It-Works-1.png
END:VEVENT
BEGIN:VEVENT
DTSTART;TZID=America/Chicago:20300605T190000
DTEND;TZID=America/Chicago:20300605T200000
DTSTAMP:20260420T120402
CREATED:20241209T182141Z
LAST-MODIFIED:20250714T234159Z
UID:10003868-1906916400-1906920000@wayoutcenter.com
SUMMARY:WOW! It Works! Women's Meeting
DESCRIPTION:Join us for WOW! It Works\, our WEEKLY WOMEN’S MEETING at our beautiful new home at 2670 Avenue D\, San Leon\, TX 77539!\n\n\n \n\n\n📅 When: Every Wednesday beginning December 11th\n\n\n⏰ Time: 7 PM \n\n\n \n\n\nThis is a chance to continue supporting the women who find hope and healing at The Way Out Women’s Center.
URL:https://wayoutcenter.com/event/wow-it-works-womens-aa-meeting/2030-06-05/
LOCATION:Way Out Womens Center\, 2670 Ave. D\, San Leon\, TX\, 77539\, United States
CATEGORIES:WOW It Works
ATTACH;FMTTYPE=image/png:https://wayoutcenter.com/wp-content/uploads/2024/12/WOW-It-Works-1.png
END:VEVENT
BEGIN:VEVENT
DTSTART;TZID=America/Chicago:20300612T190000
DTEND;TZID=America/Chicago:20300612T200000
DTSTAMP:20260420T120402
CREATED:20241209T182141Z
LAST-MODIFIED:20250714T234159Z
UID:10003869-1907521200-1907524800@wayoutcenter.com
SUMMARY:WOW! It Works! Women's Meeting
DESCRIPTION:Join us for WOW! It Works\, our WEEKLY WOMEN’S MEETING at our beautiful new home at 2670 Avenue D\, San Leon\, TX 77539!\n\n\n \n\n\n📅 When: Every Wednesday beginning December 11th\n\n\n⏰ Time: 7 PM \n\n\n \n\n\nThis is a chance to continue supporting the women who find hope and healing at The Way Out Women’s Center.
URL:https://wayoutcenter.com/event/wow-it-works-womens-aa-meeting/2030-06-12/
LOCATION:Way Out Womens Center\, 2670 Ave. D\, San Leon\, TX\, 77539\, United States
CATEGORIES:WOW It Works
ATTACH;FMTTYPE=image/png:https://wayoutcenter.com/wp-content/uploads/2024/12/WOW-It-Works-1.png
END:VEVENT
BEGIN:VEVENT
DTSTART;TZID=America/Chicago:20300619T190000
DTEND;TZID=America/Chicago:20300619T200000
DTSTAMP:20260420T120402
CREATED:20241209T182141Z
LAST-MODIFIED:20250714T234159Z
UID:10003870-1908126000-1908129600@wayoutcenter.com
SUMMARY:WOW! It Works! Women's Meeting
DESCRIPTION:Join us for WOW! It Works\, our WEEKLY WOMEN’S MEETING at our beautiful new home at 2670 Avenue D\, San Leon\, TX 77539!\n\n\n \n\n\n📅 When: Every Wednesday beginning December 11th\n\n\n⏰ Time: 7 PM \n\n\n \n\n\nThis is a chance to continue supporting the women who find hope and healing at The Way Out Women’s Center.
URL:https://wayoutcenter.com/event/wow-it-works-womens-aa-meeting/2030-06-19/
LOCATION:Way Out Womens Center\, 2670 Ave. D\, San Leon\, TX\, 77539\, United States
CATEGORIES:WOW It Works
ATTACH;FMTTYPE=image/png:https://wayoutcenter.com/wp-content/uploads/2024/12/WOW-It-Works-1.png
END:VEVENT
BEGIN:VEVENT
DTSTART;TZID=America/Chicago:20300626T190000
DTEND;TZID=America/Chicago:20300626T200000
DTSTAMP:20260420T120402
CREATED:20241209T182141Z
LAST-MODIFIED:20250714T234159Z
UID:10003871-1908730800-1908734400@wayoutcenter.com
SUMMARY:WOW! It Works! Women's Meeting
DESCRIPTION:Join us for WOW! It Works\, our WEEKLY WOMEN’S MEETING at our beautiful new home at 2670 Avenue D\, San Leon\, TX 77539!\n\n\n \n\n\n📅 When: Every Wednesday beginning December 11th\n\n\n⏰ Time: 7 PM \n\n\n \n\n\nThis is a chance to continue supporting the women who find hope and healing at The Way Out Women’s Center.
URL:https://wayoutcenter.com/event/wow-it-works-womens-aa-meeting/2030-06-26/
LOCATION:Way Out Womens Center\, 2670 Ave. D\, San Leon\, TX\, 77539\, United States
CATEGORIES:WOW It Works
ATTACH;FMTTYPE=image/png:https://wayoutcenter.com/wp-content/uploads/2024/12/WOW-It-Works-1.png
END:VEVENT
BEGIN:VEVENT
DTSTART;TZID=America/Chicago:20300703T190000
DTEND;TZID=America/Chicago:20300703T200000
DTSTAMP:20260420T120402
CREATED:20241209T182141Z
LAST-MODIFIED:20250714T234159Z
UID:10003872-1909335600-1909339200@wayoutcenter.com
SUMMARY:WOW! It Works! Women's Meeting
DESCRIPTION:Join us for WOW! It Works\, our WEEKLY WOMEN’S MEETING at our beautiful new home at 2670 Avenue D\, San Leon\, TX 77539!\n\n\n \n\n\n📅 When: Every Wednesday beginning December 11th\n\n\n⏰ Time: 7 PM \n\n\n \n\n\nThis is a chance to continue supporting the women who find hope and healing at The Way Out Women’s Center.
URL:https://wayoutcenter.com/event/wow-it-works-womens-aa-meeting/2030-07-03/
LOCATION:Way Out Womens Center\, 2670 Ave. D\, San Leon\, TX\, 77539\, United States
CATEGORIES:WOW It Works
ATTACH;FMTTYPE=image/png:https://wayoutcenter.com/wp-content/uploads/2024/12/WOW-It-Works-1.png
END:VEVENT
BEGIN:VEVENT
DTSTART;TZID=America/Chicago:20300710T190000
DTEND;TZID=America/Chicago:20300710T200000
DTSTAMP:20260420T120402
CREATED:20241209T182141Z
LAST-MODIFIED:20250714T234159Z
UID:10003873-1909940400-1909944000@wayoutcenter.com
SUMMARY:WOW! It Works! Women's Meeting
DESCRIPTION:Join us for WOW! It Works\, our WEEKLY WOMEN’S MEETING at our beautiful new home at 2670 Avenue D\, San Leon\, TX 77539!\n\n\n \n\n\n📅 When: Every Wednesday beginning December 11th\n\n\n⏰ Time: 7 PM \n\n\n \n\n\nThis is a chance to continue supporting the women who find hope and healing at The Way Out Women’s Center.
URL:https://wayoutcenter.com/event/wow-it-works-womens-aa-meeting/2030-07-10/
LOCATION:Way Out Womens Center\, 2670 Ave. D\, San Leon\, TX\, 77539\, United States
CATEGORIES:WOW It Works
ATTACH;FMTTYPE=image/png:https://wayoutcenter.com/wp-content/uploads/2024/12/WOW-It-Works-1.png
END:VEVENT
END:VCALENDAR