BEGIN:VCALENDAR
VERSION:2.0
PRODID:-//Way Out Womens Center - ECPv6.15.20//NONSGML v1.0//EN
CALSCALE:GREGORIAN
METHOD:PUBLISH
X-ORIGINAL-URL:https://wayoutcenter.com
X-WR-CALDESC:Events for Way Out Womens Center
REFRESH-INTERVAL;VALUE=DURATION:PT1H
X-Robots-Tag:noindex
X-PUBLISHED-TTL:PT1H
BEGIN:VTIMEZONE
TZID:UTC
BEGIN:STANDARD
TZOFFSETFROM:+0000
TZOFFSETTO:+0000
TZNAME:UTC
DTSTART:20230101T000000
END:STANDARD
END:VTIMEZONE
BEGIN:VTIMEZONE
TZID:America/Chicago
BEGIN:DAYLIGHT
TZOFFSETFROM:-0600
TZOFFSETTO:-0500
TZNAME:CDT
DTSTART:20230312T080000
END:DAYLIGHT
BEGIN:STANDARD
TZOFFSETFROM:-0500
TZOFFSETTO:-0600
TZNAME:CST
DTSTART:20231105T070000
END:STANDARD
BEGIN:DAYLIGHT
TZOFFSETFROM:-0600
TZOFFSETTO:-0500
TZNAME:CDT
DTSTART:20240310T080000
END:DAYLIGHT
BEGIN:STANDARD
TZOFFSETFROM:-0500
TZOFFSETTO:-0600
TZNAME:CST
DTSTART:20241103T070000
END:STANDARD
BEGIN:DAYLIGHT
TZOFFSETFROM:-0600
TZOFFSETTO:-0500
TZNAME:CDT
DTSTART:20250309T080000
END:DAYLIGHT
BEGIN:STANDARD
TZOFFSETFROM:-0500
TZOFFSETTO:-0600
TZNAME:CST
DTSTART:20251102T070000
END:STANDARD
END:VTIMEZONE
BEGIN:VEVENT
DTSTART;TZID=UTC:20240505T083000
DTEND;TZID=UTC:20240505T110000
DTSTAMP:20260420T132127
CREATED:20231007T012936Z
LAST-MODIFIED:20241229T021823Z
UID:10000311-1714897800-1714906800@wayoutcenter.com
SUMMARY:World Famous Country Breakfast
DESCRIPTION:World Famous Country Breakfast with Speaker Meeting following at 11:30 AM
URL:https://wayoutcenter.com/event/world-famous-country-breakfast/2024-05-05/
LOCATION:Way Out Womens Center\, 2670 Ave. D\, San Leon\, TX\, 77539\, United States
CATEGORIES:World Famous Country Breakfast
ATTACH;FMTTYPE=image/jpeg:https://wayoutcenter.com/wp-content/uploads/2023/10/country-breakfast.jpg
END:VEVENT
BEGIN:VEVENT
DTSTART;TZID=UTC:20240505T113000
DTEND;TZID=UTC:20240505T123000
DTSTAMP:20260420T132127
CREATED:20231006T102824Z
LAST-MODIFIED:20240223T181850Z
UID:10000580-1714908600-1714912200@wayoutcenter.com
SUMMARY:Speaker Meeting
DESCRIPTION:Hosted by the WOWC. \nEvery Sunday at 11:30am\, following our WORLD FAMOUS COUNTRY BREAKFAST\, come on out to hear amazing speakers from various 12 step fellowships.
URL:https://wayoutcenter.com/event/speaker-meeting/2024-05-05/
LOCATION:Way Out Womens Center\, 2670 Ave. D\, San Leon\, TX\, 77539\, United States
END:VEVENT
BEGIN:VEVENT
DTSTART;TZID=UTC:20240512T083000
DTEND;TZID=UTC:20240512T110000
DTSTAMP:20260420T132127
CREATED:20231007T012936Z
LAST-MODIFIED:20241229T021823Z
UID:10000312-1715502600-1715511600@wayoutcenter.com
SUMMARY:World Famous Country Breakfast
DESCRIPTION:World Famous Country Breakfast with Speaker Meeting following at 11:30 AM
URL:https://wayoutcenter.com/event/world-famous-country-breakfast/2024-05-12/
LOCATION:Way Out Womens Center\, 2670 Ave. D\, San Leon\, TX\, 77539\, United States
CATEGORIES:World Famous Country Breakfast
ATTACH;FMTTYPE=image/jpeg:https://wayoutcenter.com/wp-content/uploads/2023/10/country-breakfast.jpg
END:VEVENT
BEGIN:VEVENT
DTSTART;TZID=UTC:20240512T113000
DTEND;TZID=UTC:20240512T123000
DTSTAMP:20260420T132127
CREATED:20231006T102824Z
LAST-MODIFIED:20240223T181850Z
UID:10000581-1715513400-1715517000@wayoutcenter.com
SUMMARY:Speaker Meeting
DESCRIPTION:Hosted by the WOWC. \nEvery Sunday at 11:30am\, following our WORLD FAMOUS COUNTRY BREAKFAST\, come on out to hear amazing speakers from various 12 step fellowships.
URL:https://wayoutcenter.com/event/speaker-meeting/2024-05-12/
LOCATION:Way Out Womens Center\, 2670 Ave. D\, San Leon\, TX\, 77539\, United States
END:VEVENT
BEGIN:VEVENT
DTSTART;TZID=America/Chicago:20240518T170000
DTEND;TZID=America/Chicago:20240518T170000
DTSTAMP:20260420T132127
CREATED:20240510T023610Z
LAST-MODIFIED:20240510T023701Z
UID:10002725-1716051600-1716051600@wayoutcenter.com
SUMMARY:FOOD & FELLOWSHIP
DESCRIPTION:Friends of the KISS Group present FOOD & FELLOWSHIP benefitting the Way Out Women’s Center!\n \nGUEST SPEAKER: Kelly C\, Sobriety date: January 7\, 2005 \n \n  \nCLICK HERE TO DOWNLOAD OUR FLYER
URL:https://wayoutcenter.com/event/food-fellowship/
LOCATION:Way Out Womens Center\, 2670 Ave. D\, San Leon\, TX\, 77539\, United States
CATEGORIES:benefit
ATTACH;FMTTYPE=image/png:https://wayoutcenter.com/wp-content/uploads/2024/05/food-and-fellowship.png
END:VEVENT
BEGIN:VEVENT
DTSTART;TZID=UTC:20240519T083000
DTEND;TZID=UTC:20240519T110000
DTSTAMP:20260420T132127
CREATED:20231007T012936Z
LAST-MODIFIED:20241229T021823Z
UID:10000313-1716107400-1716116400@wayoutcenter.com
SUMMARY:World Famous Country Breakfast
DESCRIPTION:World Famous Country Breakfast with Speaker Meeting following at 11:30 AM
URL:https://wayoutcenter.com/event/world-famous-country-breakfast/2024-05-19/
LOCATION:Way Out Womens Center\, 2670 Ave. D\, San Leon\, TX\, 77539\, United States
CATEGORIES:World Famous Country Breakfast
ATTACH;FMTTYPE=image/jpeg:https://wayoutcenter.com/wp-content/uploads/2023/10/country-breakfast.jpg
END:VEVENT
BEGIN:VEVENT
DTSTART;TZID=UTC:20240519T113000
DTEND;TZID=UTC:20240519T123000
DTSTAMP:20260420T132127
CREATED:20231006T102824Z
LAST-MODIFIED:20240223T181850Z
UID:10000582-1716118200-1716121800@wayoutcenter.com
SUMMARY:Speaker Meeting
DESCRIPTION:Hosted by the WOWC. \nEvery Sunday at 11:30am\, following our WORLD FAMOUS COUNTRY BREAKFAST\, come on out to hear amazing speakers from various 12 step fellowships.
URL:https://wayoutcenter.com/event/speaker-meeting/2024-05-19/
LOCATION:Way Out Womens Center\, 2670 Ave. D\, San Leon\, TX\, 77539\, United States
END:VEVENT
BEGIN:VEVENT
DTSTART;TZID=UTC:20240526T083000
DTEND;TZID=UTC:20240526T110000
DTSTAMP:20260420T132127
CREATED:20231007T012936Z
LAST-MODIFIED:20241229T021823Z
UID:10000314-1716712200-1716721200@wayoutcenter.com
SUMMARY:World Famous Country Breakfast
DESCRIPTION:World Famous Country Breakfast with Speaker Meeting following at 11:30 AM
URL:https://wayoutcenter.com/event/world-famous-country-breakfast/2024-05-26/
LOCATION:Way Out Womens Center\, 2670 Ave. D\, San Leon\, TX\, 77539\, United States
CATEGORIES:World Famous Country Breakfast
ATTACH;FMTTYPE=image/jpeg:https://wayoutcenter.com/wp-content/uploads/2023/10/country-breakfast.jpg
END:VEVENT
BEGIN:VEVENT
DTSTART;TZID=UTC:20240526T113000
DTEND;TZID=UTC:20240526T123000
DTSTAMP:20260420T132127
CREATED:20231006T102824Z
LAST-MODIFIED:20240223T181850Z
UID:10000583-1716723000-1716726600@wayoutcenter.com
SUMMARY:Speaker Meeting
DESCRIPTION:Hosted by the WOWC. \nEvery Sunday at 11:30am\, following our WORLD FAMOUS COUNTRY BREAKFAST\, come on out to hear amazing speakers from various 12 step fellowships.
URL:https://wayoutcenter.com/event/speaker-meeting/2024-05-26/
LOCATION:Way Out Womens Center\, 2670 Ave. D\, San Leon\, TX\, 77539\, United States
END:VEVENT
END:VCALENDAR