BEGIN:VCALENDAR
VERSION:2.0
PRODID:-//Way Out Womens Center - ECPv6.15.20//NONSGML v1.0//EN
CALSCALE:GREGORIAN
METHOD:PUBLISH
X-ORIGINAL-URL:https://wayoutcenter.com
X-WR-CALDESC:Events for Way Out Womens Center
REFRESH-INTERVAL;VALUE=DURATION:PT1H
X-Robots-Tag:noindex
X-PUBLISHED-TTL:PT1H
BEGIN:VTIMEZONE
TZID:UTC
BEGIN:STANDARD
TZOFFSETFROM:+0000
TZOFFSETTO:+0000
TZNAME:UTC
DTSTART:20230101T000000
END:STANDARD
END:VTIMEZONE
BEGIN:VTIMEZONE
TZID:America/Chicago
BEGIN:DAYLIGHT
TZOFFSETFROM:-0600
TZOFFSETTO:-0500
TZNAME:CDT
DTSTART:20230312T080000
END:DAYLIGHT
BEGIN:STANDARD
TZOFFSETFROM:-0500
TZOFFSETTO:-0600
TZNAME:CST
DTSTART:20231105T070000
END:STANDARD
BEGIN:DAYLIGHT
TZOFFSETFROM:-0600
TZOFFSETTO:-0500
TZNAME:CDT
DTSTART:20240310T080000
END:DAYLIGHT
BEGIN:STANDARD
TZOFFSETFROM:-0500
TZOFFSETTO:-0600
TZNAME:CST
DTSTART:20241103T070000
END:STANDARD
BEGIN:DAYLIGHT
TZOFFSETFROM:-0600
TZOFFSETTO:-0500
TZNAME:CDT
DTSTART:20250309T080000
END:DAYLIGHT
BEGIN:STANDARD
TZOFFSETFROM:-0500
TZOFFSETTO:-0600
TZNAME:CST
DTSTART:20251102T070000
END:STANDARD
END:VTIMEZONE
BEGIN:VEVENT
DTSTART;TZID=UTC:20240407T083000
DTEND;TZID=UTC:20240407T110000
DTSTAMP:20260419T141030
CREATED:20231007T012936Z
LAST-MODIFIED:20241229T021823Z
UID:10000307-1712478600-1712487600@wayoutcenter.com
SUMMARY:World Famous Country Breakfast
DESCRIPTION:World Famous Country Breakfast with Speaker Meeting following at 11:30 AM
URL:https://wayoutcenter.com/event/world-famous-country-breakfast/2024-04-07/
LOCATION:Way Out Womens Center\, 2670 Ave. D\, San Leon\, TX\, 77539\, United States
CATEGORIES:World Famous Country Breakfast
ATTACH;FMTTYPE=image/jpeg:https://wayoutcenter.com/wp-content/uploads/2023/10/country-breakfast.jpg
END:VEVENT
BEGIN:VEVENT
DTSTART;TZID=UTC:20240407T113000
DTEND;TZID=UTC:20240407T123000
DTSTAMP:20260419T141030
CREATED:20231006T102824Z
LAST-MODIFIED:20240223T181850Z
UID:10000576-1712489400-1712493000@wayoutcenter.com
SUMMARY:Speaker Meeting
DESCRIPTION:Hosted by the WOWC. \nEvery Sunday at 11:30am\, following our WORLD FAMOUS COUNTRY BREAKFAST\, come on out to hear amazing speakers from various 12 step fellowships.
URL:https://wayoutcenter.com/event/speaker-meeting/2024-04-07/
LOCATION:Way Out Womens Center\, 2670 Ave. D\, San Leon\, TX\, 77539\, United States
END:VEVENT
BEGIN:VEVENT
DTSTART;TZID=UTC:20240414T083000
DTEND;TZID=UTC:20240414T110000
DTSTAMP:20260419T141030
CREATED:20231007T012936Z
LAST-MODIFIED:20241229T021823Z
UID:10000308-1713083400-1713092400@wayoutcenter.com
SUMMARY:World Famous Country Breakfast
DESCRIPTION:World Famous Country Breakfast with Speaker Meeting following at 11:30 AM
URL:https://wayoutcenter.com/event/world-famous-country-breakfast/2024-04-14/
LOCATION:Way Out Womens Center\, 2670 Ave. D\, San Leon\, TX\, 77539\, United States
CATEGORIES:World Famous Country Breakfast
ATTACH;FMTTYPE=image/jpeg:https://wayoutcenter.com/wp-content/uploads/2023/10/country-breakfast.jpg
END:VEVENT
BEGIN:VEVENT
DTSTART;TZID=UTC:20240414T113000
DTEND;TZID=UTC:20240414T123000
DTSTAMP:20260419T141030
CREATED:20231006T102824Z
LAST-MODIFIED:20240223T181850Z
UID:10000577-1713094200-1713097800@wayoutcenter.com
SUMMARY:Speaker Meeting
DESCRIPTION:Hosted by the WOWC. \nEvery Sunday at 11:30am\, following our WORLD FAMOUS COUNTRY BREAKFAST\, come on out to hear amazing speakers from various 12 step fellowships.
URL:https://wayoutcenter.com/event/speaker-meeting/2024-04-14/
LOCATION:Way Out Womens Center\, 2670 Ave. D\, San Leon\, TX\, 77539\, United States
END:VEVENT
BEGIN:VEVENT
DTSTART;TZID=UTC:20240421T083000
DTEND;TZID=UTC:20240421T110000
DTSTAMP:20260419T141030
CREATED:20231007T012936Z
LAST-MODIFIED:20241229T021823Z
UID:10000309-1713688200-1713697200@wayoutcenter.com
SUMMARY:World Famous Country Breakfast
DESCRIPTION:World Famous Country Breakfast with Speaker Meeting following at 11:30 AM
URL:https://wayoutcenter.com/event/world-famous-country-breakfast/2024-04-21/
LOCATION:Way Out Womens Center\, 2670 Ave. D\, San Leon\, TX\, 77539\, United States
CATEGORIES:World Famous Country Breakfast
ATTACH;FMTTYPE=image/jpeg:https://wayoutcenter.com/wp-content/uploads/2023/10/country-breakfast.jpg
END:VEVENT
BEGIN:VEVENT
DTSTART;TZID=UTC:20240421T113000
DTEND;TZID=UTC:20240421T123000
DTSTAMP:20260419T141030
CREATED:20231006T102824Z
LAST-MODIFIED:20240223T181850Z
UID:10000578-1713699000-1713702600@wayoutcenter.com
SUMMARY:Speaker Meeting
DESCRIPTION:Hosted by the WOWC. \nEvery Sunday at 11:30am\, following our WORLD FAMOUS COUNTRY BREAKFAST\, come on out to hear amazing speakers from various 12 step fellowships.
URL:https://wayoutcenter.com/event/speaker-meeting/2024-04-21/
LOCATION:Way Out Womens Center\, 2670 Ave. D\, San Leon\, TX\, 77539\, United States
END:VEVENT
BEGIN:VEVENT
DTSTART;TZID=America/Chicago:20240427T080000
DTEND;TZID=America/Chicago:20240427T170000
DTSTAMP:20260419T141030
CREATED:20240507T020938Z
LAST-MODIFIED:20240507T020954Z
UID:10002724-1714204800-1714237200@wayoutcenter.com
SUMMARY:8TH ANNUAL WOWC BIKE RUN
DESCRIPTION:COME JOIN US FOR AN EXCITING RIDE ACROSS GALVESTON\, DOWN THE BLUE WATER HIGHWAY AND BACK UP THROUGH OYSTER CREEK AND ACROSS CHOCOLATE BAYOU! \n  \nDOWNLOAD THE FLYER HERE
URL:https://wayoutcenter.com/event/8th-annual-wowc-bike-run/
LOCATION:TX
CATEGORIES:WOWC Bike Run
ATTACH;FMTTYPE=image/png:https://wayoutcenter.com/wp-content/uploads/2024/03/Title.png
END:VEVENT
BEGIN:VEVENT
DTSTART;TZID=UTC:20240428T083000
DTEND;TZID=UTC:20240428T110000
DTSTAMP:20260419T141030
CREATED:20231007T012936Z
LAST-MODIFIED:20241229T021823Z
UID:10000310-1714293000-1714302000@wayoutcenter.com
SUMMARY:World Famous Country Breakfast
DESCRIPTION:World Famous Country Breakfast with Speaker Meeting following at 11:30 AM
URL:https://wayoutcenter.com/event/world-famous-country-breakfast/2024-04-28/
LOCATION:Way Out Womens Center\, 2670 Ave. D\, San Leon\, TX\, 77539\, United States
CATEGORIES:World Famous Country Breakfast
ATTACH;FMTTYPE=image/jpeg:https://wayoutcenter.com/wp-content/uploads/2023/10/country-breakfast.jpg
END:VEVENT
BEGIN:VEVENT
DTSTART;TZID=UTC:20240428T113000
DTEND;TZID=UTC:20240428T123000
DTSTAMP:20260419T141030
CREATED:20231006T102824Z
LAST-MODIFIED:20240223T181850Z
UID:10000579-1714303800-1714307400@wayoutcenter.com
SUMMARY:Speaker Meeting
DESCRIPTION:Hosted by the WOWC. \nEvery Sunday at 11:30am\, following our WORLD FAMOUS COUNTRY BREAKFAST\, come on out to hear amazing speakers from various 12 step fellowships.
URL:https://wayoutcenter.com/event/speaker-meeting/2024-04-28/
LOCATION:Way Out Womens Center\, 2670 Ave. D\, San Leon\, TX\, 77539\, United States
END:VEVENT
END:VCALENDAR