BEGIN:VCALENDAR
VERSION:2.0
PRODID:-//Way Out Womens Center - ECPv6.15.20//NONSGML v1.0//EN
CALSCALE:GREGORIAN
METHOD:PUBLISH
X-WR-CALNAME:Way Out Womens Center
X-ORIGINAL-URL:https://wayoutcenter.com
X-WR-CALDESC:Events for Way Out Womens Center
REFRESH-INTERVAL;VALUE=DURATION:PT1H
X-Robots-Tag:noindex
X-PUBLISHED-TTL:PT1H
BEGIN:VTIMEZONE
TZID:America/Chicago
BEGIN:DAYLIGHT
TZOFFSETFROM:-0600
TZOFFSETTO:-0500
TZNAME:CDT
DTSTART:20280312T080000
END:DAYLIGHT
BEGIN:STANDARD
TZOFFSETFROM:-0500
TZOFFSETTO:-0600
TZNAME:CST
DTSTART:20281105T070000
END:STANDARD
BEGIN:DAYLIGHT
TZOFFSETFROM:-0600
TZOFFSETTO:-0500
TZNAME:CDT
DTSTART:20290311T080000
END:DAYLIGHT
BEGIN:STANDARD
TZOFFSETFROM:-0500
TZOFFSETTO:-0600
TZNAME:CST
DTSTART:20291104T070000
END:STANDARD
BEGIN:DAYLIGHT
TZOFFSETFROM:-0600
TZOFFSETTO:-0500
TZNAME:CDT
DTSTART:20300310T080000
END:DAYLIGHT
BEGIN:STANDARD
TZOFFSETFROM:-0500
TZOFFSETTO:-0600
TZNAME:CST
DTSTART:20301103T070000
END:STANDARD
END:VTIMEZONE
BEGIN:VTIMEZONE
TZID:UTC
BEGIN:STANDARD
TZOFFSETFROM:+0000
TZOFFSETTO:+0000
TZNAME:UTC
DTSTART:20280101T000000
END:STANDARD
END:VTIMEZONE
BEGIN:VEVENT
DTSTART;TZID=America/Chicago:20290613T190000
DTEND;TZID=America/Chicago:20290613T200000
DTSTAMP:20260421T210000
CREATED:20241209T182141Z
LAST-MODIFIED:20250714T234159Z
UID:10003817-1876071600-1876075200@wayoutcenter.com
SUMMARY:WOW! It Works! Women's Meeting
DESCRIPTION:Join us for WOW! It Works\, our WEEKLY WOMEN’S MEETING at our beautiful new home at 2670 Avenue D\, San Leon\, TX 77539!\n\n\n \n\n\n📅 When: Every Wednesday beginning December 11th\n\n\n⏰ Time: 7 PM \n\n\n \n\n\nThis is a chance to continue supporting the women who find hope and healing at The Way Out Women’s Center.
URL:https://wayoutcenter.com/event/wow-it-works-womens-aa-meeting/2029-06-13/
LOCATION:Way Out Womens Center\, 2670 Ave. D\, San Leon\, TX\, 77539\, United States
CATEGORIES:WOW It Works
ATTACH;FMTTYPE=image/png:https://wayoutcenter.com/wp-content/uploads/2024/12/WOW-It-Works-1.png
END:VEVENT
BEGIN:VEVENT
DTSTART;TZID=UTC:20290617T083000
DTEND;TZID=UTC:20290617T110000
DTSTAMP:20260421T210000
CREATED:20231007T012936Z
LAST-MODIFIED:20241229T021823Z
UID:10003006-1876379400-1876388400@wayoutcenter.com
SUMMARY:World Famous Country Breakfast
DESCRIPTION:World Famous Country Breakfast with Speaker Meeting following at 11:30 AM
URL:https://wayoutcenter.com/event/world-famous-country-breakfast/2029-06-17/
LOCATION:Way Out Womens Center\, 2670 Ave. D\, San Leon\, TX\, 77539\, United States
CATEGORIES:World Famous Country Breakfast
ATTACH;FMTTYPE=image/jpeg:https://wayoutcenter.com/wp-content/uploads/2023/10/country-breakfast.jpg
END:VEVENT
BEGIN:VEVENT
DTSTART;TZID=America/Chicago:20290618T190000
DTEND;TZID=America/Chicago:20290618T200000
DTSTAMP:20260421T210000
CREATED:20250204T043521Z
LAST-MODIFIED:20250707T194023Z
UID:10003528-1876503600-1876507200@wayoutcenter.com
SUMMARY:AA Meeting - The Cliffside Group
DESCRIPTION:We’re proud to provide a safe and welcoming space for The Cliffside Group – District 81 of Alcoholics Anonymous. These meetings offer encouragement\, understanding\, and support for those walking the recovery journey. \nJoin us every Monday at 6PM—you’re not alone! \n 
URL:https://wayoutcenter.com/event/aa-meeting-the-cliffside-group/2029-06-18/
LOCATION:Way Out Womens Center\, 2670 Ave. D\, San Leon\, TX\, 77539\, United States
CATEGORIES:aa meeting
ATTACH;FMTTYPE=image/jpeg:https://wayoutcenter.com/wp-content/uploads/2025/07/cliffside.jpg
END:VEVENT
BEGIN:VEVENT
DTSTART;TZID=America/Chicago:20290620T190000
DTEND;TZID=America/Chicago:20290620T200000
DTSTAMP:20260421T210000
CREATED:20241209T182141Z
LAST-MODIFIED:20250714T234159Z
UID:10003818-1876676400-1876680000@wayoutcenter.com
SUMMARY:WOW! It Works! Women's Meeting
DESCRIPTION:Join us for WOW! It Works\, our WEEKLY WOMEN’S MEETING at our beautiful new home at 2670 Avenue D\, San Leon\, TX 77539!\n\n\n \n\n\n📅 When: Every Wednesday beginning December 11th\n\n\n⏰ Time: 7 PM \n\n\n \n\n\nThis is a chance to continue supporting the women who find hope and healing at The Way Out Women’s Center.
URL:https://wayoutcenter.com/event/wow-it-works-womens-aa-meeting/2029-06-20/
LOCATION:Way Out Womens Center\, 2670 Ave. D\, San Leon\, TX\, 77539\, United States
CATEGORIES:WOW It Works
ATTACH;FMTTYPE=image/png:https://wayoutcenter.com/wp-content/uploads/2024/12/WOW-It-Works-1.png
END:VEVENT
BEGIN:VEVENT
DTSTART;TZID=UTC:20290624T083000
DTEND;TZID=UTC:20290624T110000
DTSTAMP:20260421T210000
CREATED:20231007T012936Z
LAST-MODIFIED:20241229T021823Z
UID:10003007-1876984200-1876993200@wayoutcenter.com
SUMMARY:World Famous Country Breakfast
DESCRIPTION:World Famous Country Breakfast with Speaker Meeting following at 11:30 AM
URL:https://wayoutcenter.com/event/world-famous-country-breakfast/2029-06-24/
LOCATION:Way Out Womens Center\, 2670 Ave. D\, San Leon\, TX\, 77539\, United States
CATEGORIES:World Famous Country Breakfast
ATTACH;FMTTYPE=image/jpeg:https://wayoutcenter.com/wp-content/uploads/2023/10/country-breakfast.jpg
END:VEVENT
BEGIN:VEVENT
DTSTART;TZID=America/Chicago:20290625T190000
DTEND;TZID=America/Chicago:20290625T200000
DTSTAMP:20260421T210000
CREATED:20250204T043521Z
LAST-MODIFIED:20250707T194023Z
UID:10003529-1877108400-1877112000@wayoutcenter.com
SUMMARY:AA Meeting - The Cliffside Group
DESCRIPTION:We’re proud to provide a safe and welcoming space for The Cliffside Group – District 81 of Alcoholics Anonymous. These meetings offer encouragement\, understanding\, and support for those walking the recovery journey. \nJoin us every Monday at 6PM—you’re not alone! \n 
URL:https://wayoutcenter.com/event/aa-meeting-the-cliffside-group/2029-06-25/
LOCATION:Way Out Womens Center\, 2670 Ave. D\, San Leon\, TX\, 77539\, United States
CATEGORIES:aa meeting
ATTACH;FMTTYPE=image/jpeg:https://wayoutcenter.com/wp-content/uploads/2025/07/cliffside.jpg
END:VEVENT
BEGIN:VEVENT
DTSTART;TZID=America/Chicago:20290627T190000
DTEND;TZID=America/Chicago:20290627T200000
DTSTAMP:20260421T210000
CREATED:20241209T182141Z
LAST-MODIFIED:20250714T234159Z
UID:10003819-1877281200-1877284800@wayoutcenter.com
SUMMARY:WOW! It Works! Women's Meeting
DESCRIPTION:Join us for WOW! It Works\, our WEEKLY WOMEN’S MEETING at our beautiful new home at 2670 Avenue D\, San Leon\, TX 77539!\n\n\n \n\n\n📅 When: Every Wednesday beginning December 11th\n\n\n⏰ Time: 7 PM \n\n\n \n\n\nThis is a chance to continue supporting the women who find hope and healing at The Way Out Women’s Center.
URL:https://wayoutcenter.com/event/wow-it-works-womens-aa-meeting/2029-06-27/
LOCATION:Way Out Womens Center\, 2670 Ave. D\, San Leon\, TX\, 77539\, United States
CATEGORIES:WOW It Works
ATTACH;FMTTYPE=image/png:https://wayoutcenter.com/wp-content/uploads/2024/12/WOW-It-Works-1.png
END:VEVENT
BEGIN:VEVENT
DTSTART;TZID=UTC:20290701T083000
DTEND;TZID=UTC:20290701T110000
DTSTAMP:20260421T210000
CREATED:20231007T012936Z
LAST-MODIFIED:20241229T021823Z
UID:10003008-1877589000-1877598000@wayoutcenter.com
SUMMARY:World Famous Country Breakfast
DESCRIPTION:World Famous Country Breakfast with Speaker Meeting following at 11:30 AM
URL:https://wayoutcenter.com/event/world-famous-country-breakfast/2029-07-01/
LOCATION:Way Out Womens Center\, 2670 Ave. D\, San Leon\, TX\, 77539\, United States
CATEGORIES:World Famous Country Breakfast
ATTACH;FMTTYPE=image/jpeg:https://wayoutcenter.com/wp-content/uploads/2023/10/country-breakfast.jpg
END:VEVENT
BEGIN:VEVENT
DTSTART;TZID=America/Chicago:20290702T190000
DTEND;TZID=America/Chicago:20290702T200000
DTSTAMP:20260421T210000
CREATED:20250204T043521Z
LAST-MODIFIED:20250707T194023Z
UID:10003530-1877713200-1877716800@wayoutcenter.com
SUMMARY:AA Meeting - The Cliffside Group
DESCRIPTION:We’re proud to provide a safe and welcoming space for The Cliffside Group – District 81 of Alcoholics Anonymous. These meetings offer encouragement\, understanding\, and support for those walking the recovery journey. \nJoin us every Monday at 6PM—you’re not alone! \n 
URL:https://wayoutcenter.com/event/aa-meeting-the-cliffside-group/2029-07-02/
LOCATION:Way Out Womens Center\, 2670 Ave. D\, San Leon\, TX\, 77539\, United States
CATEGORIES:aa meeting
ATTACH;FMTTYPE=image/jpeg:https://wayoutcenter.com/wp-content/uploads/2025/07/cliffside.jpg
END:VEVENT
BEGIN:VEVENT
DTSTART;TZID=America/Chicago:20290704T190000
DTEND;TZID=America/Chicago:20290704T200000
DTSTAMP:20260421T210000
CREATED:20241209T182141Z
LAST-MODIFIED:20250714T234159Z
UID:10003820-1877886000-1877889600@wayoutcenter.com
SUMMARY:WOW! It Works! Women's Meeting
DESCRIPTION:Join us for WOW! It Works\, our WEEKLY WOMEN’S MEETING at our beautiful new home at 2670 Avenue D\, San Leon\, TX 77539!\n\n\n \n\n\n📅 When: Every Wednesday beginning December 11th\n\n\n⏰ Time: 7 PM \n\n\n \n\n\nThis is a chance to continue supporting the women who find hope and healing at The Way Out Women’s Center.
URL:https://wayoutcenter.com/event/wow-it-works-womens-aa-meeting/2029-07-04/
LOCATION:Way Out Womens Center\, 2670 Ave. D\, San Leon\, TX\, 77539\, United States
CATEGORIES:WOW It Works
ATTACH;FMTTYPE=image/png:https://wayoutcenter.com/wp-content/uploads/2024/12/WOW-It-Works-1.png
END:VEVENT
BEGIN:VEVENT
DTSTART;TZID=UTC:20290708T083000
DTEND;TZID=UTC:20290708T110000
DTSTAMP:20260421T210000
CREATED:20231007T012936Z
LAST-MODIFIED:20241229T021823Z
UID:10003009-1878193800-1878202800@wayoutcenter.com
SUMMARY:World Famous Country Breakfast
DESCRIPTION:World Famous Country Breakfast with Speaker Meeting following at 11:30 AM
URL:https://wayoutcenter.com/event/world-famous-country-breakfast/2029-07-08/
LOCATION:Way Out Womens Center\, 2670 Ave. D\, San Leon\, TX\, 77539\, United States
CATEGORIES:World Famous Country Breakfast
ATTACH;FMTTYPE=image/jpeg:https://wayoutcenter.com/wp-content/uploads/2023/10/country-breakfast.jpg
END:VEVENT
BEGIN:VEVENT
DTSTART;TZID=America/Chicago:20290709T190000
DTEND;TZID=America/Chicago:20290709T200000
DTSTAMP:20260421T210000
CREATED:20250204T043521Z
LAST-MODIFIED:20250707T194023Z
UID:10003531-1878318000-1878321600@wayoutcenter.com
SUMMARY:AA Meeting - The Cliffside Group
DESCRIPTION:We’re proud to provide a safe and welcoming space for The Cliffside Group – District 81 of Alcoholics Anonymous. These meetings offer encouragement\, understanding\, and support for those walking the recovery journey. \nJoin us every Monday at 6PM—you’re not alone! \n 
URL:https://wayoutcenter.com/event/aa-meeting-the-cliffside-group/2029-07-09/
LOCATION:Way Out Womens Center\, 2670 Ave. D\, San Leon\, TX\, 77539\, United States
CATEGORIES:aa meeting
ATTACH;FMTTYPE=image/jpeg:https://wayoutcenter.com/wp-content/uploads/2025/07/cliffside.jpg
END:VEVENT
BEGIN:VEVENT
DTSTART;TZID=America/Chicago:20290711T190000
DTEND;TZID=America/Chicago:20290711T200000
DTSTAMP:20260421T210000
CREATED:20241209T182141Z
LAST-MODIFIED:20250714T234159Z
UID:10003821-1878490800-1878494400@wayoutcenter.com
SUMMARY:WOW! It Works! Women's Meeting
DESCRIPTION:Join us for WOW! It Works\, our WEEKLY WOMEN’S MEETING at our beautiful new home at 2670 Avenue D\, San Leon\, TX 77539!\n\n\n \n\n\n📅 When: Every Wednesday beginning December 11th\n\n\n⏰ Time: 7 PM \n\n\n \n\n\nThis is a chance to continue supporting the women who find hope and healing at The Way Out Women’s Center.
URL:https://wayoutcenter.com/event/wow-it-works-womens-aa-meeting/2029-07-11/
LOCATION:Way Out Womens Center\, 2670 Ave. D\, San Leon\, TX\, 77539\, United States
CATEGORIES:WOW It Works
ATTACH;FMTTYPE=image/png:https://wayoutcenter.com/wp-content/uploads/2024/12/WOW-It-Works-1.png
END:VEVENT
BEGIN:VEVENT
DTSTART;TZID=UTC:20290715T083000
DTEND;TZID=UTC:20290715T110000
DTSTAMP:20260421T210000
CREATED:20231007T012936Z
LAST-MODIFIED:20241229T021823Z
UID:10003010-1878798600-1878807600@wayoutcenter.com
SUMMARY:World Famous Country Breakfast
DESCRIPTION:World Famous Country Breakfast with Speaker Meeting following at 11:30 AM
URL:https://wayoutcenter.com/event/world-famous-country-breakfast/2029-07-15/
LOCATION:Way Out Womens Center\, 2670 Ave. D\, San Leon\, TX\, 77539\, United States
CATEGORIES:World Famous Country Breakfast
ATTACH;FMTTYPE=image/jpeg:https://wayoutcenter.com/wp-content/uploads/2023/10/country-breakfast.jpg
END:VEVENT
BEGIN:VEVENT
DTSTART;TZID=America/Chicago:20290716T190000
DTEND;TZID=America/Chicago:20290716T200000
DTSTAMP:20260421T210000
CREATED:20250204T043521Z
LAST-MODIFIED:20250707T194023Z
UID:10003532-1878922800-1878926400@wayoutcenter.com
SUMMARY:AA Meeting - The Cliffside Group
DESCRIPTION:We’re proud to provide a safe and welcoming space for The Cliffside Group – District 81 of Alcoholics Anonymous. These meetings offer encouragement\, understanding\, and support for those walking the recovery journey. \nJoin us every Monday at 6PM—you’re not alone! \n 
URL:https://wayoutcenter.com/event/aa-meeting-the-cliffside-group/2029-07-16/
LOCATION:Way Out Womens Center\, 2670 Ave. D\, San Leon\, TX\, 77539\, United States
CATEGORIES:aa meeting
ATTACH;FMTTYPE=image/jpeg:https://wayoutcenter.com/wp-content/uploads/2025/07/cliffside.jpg
END:VEVENT
BEGIN:VEVENT
DTSTART;TZID=America/Chicago:20290718T190000
DTEND;TZID=America/Chicago:20290718T200000
DTSTAMP:20260421T210000
CREATED:20241209T182141Z
LAST-MODIFIED:20250714T234159Z
UID:10003822-1879095600-1879099200@wayoutcenter.com
SUMMARY:WOW! It Works! Women's Meeting
DESCRIPTION:Join us for WOW! It Works\, our WEEKLY WOMEN’S MEETING at our beautiful new home at 2670 Avenue D\, San Leon\, TX 77539!\n\n\n \n\n\n📅 When: Every Wednesday beginning December 11th\n\n\n⏰ Time: 7 PM \n\n\n \n\n\nThis is a chance to continue supporting the women who find hope and healing at The Way Out Women’s Center.
URL:https://wayoutcenter.com/event/wow-it-works-womens-aa-meeting/2029-07-18/
LOCATION:Way Out Womens Center\, 2670 Ave. D\, San Leon\, TX\, 77539\, United States
CATEGORIES:WOW It Works
ATTACH;FMTTYPE=image/png:https://wayoutcenter.com/wp-content/uploads/2024/12/WOW-It-Works-1.png
END:VEVENT
BEGIN:VEVENT
DTSTART;TZID=UTC:20290722T083000
DTEND;TZID=UTC:20290722T110000
DTSTAMP:20260421T210000
CREATED:20231007T012936Z
LAST-MODIFIED:20241229T021823Z
UID:10003011-1879403400-1879412400@wayoutcenter.com
SUMMARY:World Famous Country Breakfast
DESCRIPTION:World Famous Country Breakfast with Speaker Meeting following at 11:30 AM
URL:https://wayoutcenter.com/event/world-famous-country-breakfast/2029-07-22/
LOCATION:Way Out Womens Center\, 2670 Ave. D\, San Leon\, TX\, 77539\, United States
CATEGORIES:World Famous Country Breakfast
ATTACH;FMTTYPE=image/jpeg:https://wayoutcenter.com/wp-content/uploads/2023/10/country-breakfast.jpg
END:VEVENT
BEGIN:VEVENT
DTSTART;TZID=America/Chicago:20290723T190000
DTEND;TZID=America/Chicago:20290723T200000
DTSTAMP:20260421T210000
CREATED:20250204T043521Z
LAST-MODIFIED:20250707T194023Z
UID:10003533-1879527600-1879531200@wayoutcenter.com
SUMMARY:AA Meeting - The Cliffside Group
DESCRIPTION:We’re proud to provide a safe and welcoming space for The Cliffside Group – District 81 of Alcoholics Anonymous. These meetings offer encouragement\, understanding\, and support for those walking the recovery journey. \nJoin us every Monday at 6PM—you’re not alone! \n 
URL:https://wayoutcenter.com/event/aa-meeting-the-cliffside-group/2029-07-23/
LOCATION:Way Out Womens Center\, 2670 Ave. D\, San Leon\, TX\, 77539\, United States
CATEGORIES:aa meeting
ATTACH;FMTTYPE=image/jpeg:https://wayoutcenter.com/wp-content/uploads/2025/07/cliffside.jpg
END:VEVENT
BEGIN:VEVENT
DTSTART;TZID=America/Chicago:20290725T190000
DTEND;TZID=America/Chicago:20290725T200000
DTSTAMP:20260421T210000
CREATED:20241209T182141Z
LAST-MODIFIED:20250714T234159Z
UID:10003823-1879700400-1879704000@wayoutcenter.com
SUMMARY:WOW! It Works! Women's Meeting
DESCRIPTION:Join us for WOW! It Works\, our WEEKLY WOMEN’S MEETING at our beautiful new home at 2670 Avenue D\, San Leon\, TX 77539!\n\n\n \n\n\n📅 When: Every Wednesday beginning December 11th\n\n\n⏰ Time: 7 PM \n\n\n \n\n\nThis is a chance to continue supporting the women who find hope and healing at The Way Out Women’s Center.
URL:https://wayoutcenter.com/event/wow-it-works-womens-aa-meeting/2029-07-25/
LOCATION:Way Out Womens Center\, 2670 Ave. D\, San Leon\, TX\, 77539\, United States
CATEGORIES:WOW It Works
ATTACH;FMTTYPE=image/png:https://wayoutcenter.com/wp-content/uploads/2024/12/WOW-It-Works-1.png
END:VEVENT
BEGIN:VEVENT
DTSTART;TZID=UTC:20290729T083000
DTEND;TZID=UTC:20290729T110000
DTSTAMP:20260421T210000
CREATED:20231007T012936Z
LAST-MODIFIED:20241229T021823Z
UID:10003012-1880008200-1880017200@wayoutcenter.com
SUMMARY:World Famous Country Breakfast
DESCRIPTION:World Famous Country Breakfast with Speaker Meeting following at 11:30 AM
URL:https://wayoutcenter.com/event/world-famous-country-breakfast/2029-07-29/
LOCATION:Way Out Womens Center\, 2670 Ave. D\, San Leon\, TX\, 77539\, United States
CATEGORIES:World Famous Country Breakfast
ATTACH;FMTTYPE=image/jpeg:https://wayoutcenter.com/wp-content/uploads/2023/10/country-breakfast.jpg
END:VEVENT
BEGIN:VEVENT
DTSTART;TZID=America/Chicago:20290730T190000
DTEND;TZID=America/Chicago:20290730T200000
DTSTAMP:20260421T210000
CREATED:20250204T043521Z
LAST-MODIFIED:20250707T194023Z
UID:10003534-1880132400-1880136000@wayoutcenter.com
SUMMARY:AA Meeting - The Cliffside Group
DESCRIPTION:We’re proud to provide a safe and welcoming space for The Cliffside Group – District 81 of Alcoholics Anonymous. These meetings offer encouragement\, understanding\, and support for those walking the recovery journey. \nJoin us every Monday at 6PM—you’re not alone! \n 
URL:https://wayoutcenter.com/event/aa-meeting-the-cliffside-group/2029-07-30/
LOCATION:Way Out Womens Center\, 2670 Ave. D\, San Leon\, TX\, 77539\, United States
CATEGORIES:aa meeting
ATTACH;FMTTYPE=image/jpeg:https://wayoutcenter.com/wp-content/uploads/2025/07/cliffside.jpg
END:VEVENT
BEGIN:VEVENT
DTSTART;TZID=America/Chicago:20290801T190000
DTEND;TZID=America/Chicago:20290801T200000
DTSTAMP:20260421T210000
CREATED:20241209T182141Z
LAST-MODIFIED:20250714T234159Z
UID:10003824-1880305200-1880308800@wayoutcenter.com
SUMMARY:WOW! It Works! Women's Meeting
DESCRIPTION:Join us for WOW! It Works\, our WEEKLY WOMEN’S MEETING at our beautiful new home at 2670 Avenue D\, San Leon\, TX 77539!\n\n\n \n\n\n📅 When: Every Wednesday beginning December 11th\n\n\n⏰ Time: 7 PM \n\n\n \n\n\nThis is a chance to continue supporting the women who find hope and healing at The Way Out Women’s Center.
URL:https://wayoutcenter.com/event/wow-it-works-womens-aa-meeting/2029-08-01/
LOCATION:Way Out Womens Center\, 2670 Ave. D\, San Leon\, TX\, 77539\, United States
CATEGORIES:WOW It Works
ATTACH;FMTTYPE=image/png:https://wayoutcenter.com/wp-content/uploads/2024/12/WOW-It-Works-1.png
END:VEVENT
BEGIN:VEVENT
DTSTART;TZID=UTC:20290805T083000
DTEND;TZID=UTC:20290805T110000
DTSTAMP:20260421T210000
CREATED:20231007T012936Z
LAST-MODIFIED:20241229T021823Z
UID:10003013-1880613000-1880622000@wayoutcenter.com
SUMMARY:World Famous Country Breakfast
DESCRIPTION:World Famous Country Breakfast with Speaker Meeting following at 11:30 AM
URL:https://wayoutcenter.com/event/world-famous-country-breakfast/2029-08-05/
LOCATION:Way Out Womens Center\, 2670 Ave. D\, San Leon\, TX\, 77539\, United States
CATEGORIES:World Famous Country Breakfast
ATTACH;FMTTYPE=image/jpeg:https://wayoutcenter.com/wp-content/uploads/2023/10/country-breakfast.jpg
END:VEVENT
BEGIN:VEVENT
DTSTART;TZID=America/Chicago:20290806T190000
DTEND;TZID=America/Chicago:20290806T200000
DTSTAMP:20260421T210000
CREATED:20250204T043521Z
LAST-MODIFIED:20250707T194023Z
UID:10003535-1880737200-1880740800@wayoutcenter.com
SUMMARY:AA Meeting - The Cliffside Group
DESCRIPTION:We’re proud to provide a safe and welcoming space for The Cliffside Group – District 81 of Alcoholics Anonymous. These meetings offer encouragement\, understanding\, and support for those walking the recovery journey. \nJoin us every Monday at 6PM—you’re not alone! \n 
URL:https://wayoutcenter.com/event/aa-meeting-the-cliffside-group/2029-08-06/
LOCATION:Way Out Womens Center\, 2670 Ave. D\, San Leon\, TX\, 77539\, United States
CATEGORIES:aa meeting
ATTACH;FMTTYPE=image/jpeg:https://wayoutcenter.com/wp-content/uploads/2025/07/cliffside.jpg
END:VEVENT
BEGIN:VEVENT
DTSTART;TZID=America/Chicago:20290808T190000
DTEND;TZID=America/Chicago:20290808T200000
DTSTAMP:20260421T210000
CREATED:20241209T182141Z
LAST-MODIFIED:20250714T234159Z
UID:10003825-1880910000-1880913600@wayoutcenter.com
SUMMARY:WOW! It Works! Women's Meeting
DESCRIPTION:Join us for WOW! It Works\, our WEEKLY WOMEN’S MEETING at our beautiful new home at 2670 Avenue D\, San Leon\, TX 77539!\n\n\n \n\n\n📅 When: Every Wednesday beginning December 11th\n\n\n⏰ Time: 7 PM \n\n\n \n\n\nThis is a chance to continue supporting the women who find hope and healing at The Way Out Women’s Center.
URL:https://wayoutcenter.com/event/wow-it-works-womens-aa-meeting/2029-08-08/
LOCATION:Way Out Womens Center\, 2670 Ave. D\, San Leon\, TX\, 77539\, United States
CATEGORIES:WOW It Works
ATTACH;FMTTYPE=image/png:https://wayoutcenter.com/wp-content/uploads/2024/12/WOW-It-Works-1.png
END:VEVENT
BEGIN:VEVENT
DTSTART;TZID=UTC:20290812T083000
DTEND;TZID=UTC:20290812T110000
DTSTAMP:20260421T210000
CREATED:20231007T012936Z
LAST-MODIFIED:20241229T021823Z
UID:10003014-1881217800-1881226800@wayoutcenter.com
SUMMARY:World Famous Country Breakfast
DESCRIPTION:World Famous Country Breakfast with Speaker Meeting following at 11:30 AM
URL:https://wayoutcenter.com/event/world-famous-country-breakfast/2029-08-12/
LOCATION:Way Out Womens Center\, 2670 Ave. D\, San Leon\, TX\, 77539\, United States
CATEGORIES:World Famous Country Breakfast
ATTACH;FMTTYPE=image/jpeg:https://wayoutcenter.com/wp-content/uploads/2023/10/country-breakfast.jpg
END:VEVENT
BEGIN:VEVENT
DTSTART;TZID=America/Chicago:20290813T190000
DTEND;TZID=America/Chicago:20290813T200000
DTSTAMP:20260421T210000
CREATED:20250204T043521Z
LAST-MODIFIED:20250707T194023Z
UID:10003536-1881342000-1881345600@wayoutcenter.com
SUMMARY:AA Meeting - The Cliffside Group
DESCRIPTION:We’re proud to provide a safe and welcoming space for The Cliffside Group – District 81 of Alcoholics Anonymous. These meetings offer encouragement\, understanding\, and support for those walking the recovery journey. \nJoin us every Monday at 6PM—you’re not alone! \n 
URL:https://wayoutcenter.com/event/aa-meeting-the-cliffside-group/2029-08-13/
LOCATION:Way Out Womens Center\, 2670 Ave. D\, San Leon\, TX\, 77539\, United States
CATEGORIES:aa meeting
ATTACH;FMTTYPE=image/jpeg:https://wayoutcenter.com/wp-content/uploads/2025/07/cliffside.jpg
END:VEVENT
BEGIN:VEVENT
DTSTART;TZID=America/Chicago:20290815T190000
DTEND;TZID=America/Chicago:20290815T200000
DTSTAMP:20260421T210000
CREATED:20241209T182141Z
LAST-MODIFIED:20250714T234159Z
UID:10003826-1881514800-1881518400@wayoutcenter.com
SUMMARY:WOW! It Works! Women's Meeting
DESCRIPTION:Join us for WOW! It Works\, our WEEKLY WOMEN’S MEETING at our beautiful new home at 2670 Avenue D\, San Leon\, TX 77539!\n\n\n \n\n\n📅 When: Every Wednesday beginning December 11th\n\n\n⏰ Time: 7 PM \n\n\n \n\n\nThis is a chance to continue supporting the women who find hope and healing at The Way Out Women’s Center.
URL:https://wayoutcenter.com/event/wow-it-works-womens-aa-meeting/2029-08-15/
LOCATION:Way Out Womens Center\, 2670 Ave. D\, San Leon\, TX\, 77539\, United States
CATEGORIES:WOW It Works
ATTACH;FMTTYPE=image/png:https://wayoutcenter.com/wp-content/uploads/2024/12/WOW-It-Works-1.png
END:VEVENT
BEGIN:VEVENT
DTSTART;TZID=UTC:20290819T083000
DTEND;TZID=UTC:20290819T110000
DTSTAMP:20260421T210000
CREATED:20231007T012936Z
LAST-MODIFIED:20241229T021823Z
UID:10003015-1881822600-1881831600@wayoutcenter.com
SUMMARY:World Famous Country Breakfast
DESCRIPTION:World Famous Country Breakfast with Speaker Meeting following at 11:30 AM
URL:https://wayoutcenter.com/event/world-famous-country-breakfast/2029-08-19/
LOCATION:Way Out Womens Center\, 2670 Ave. D\, San Leon\, TX\, 77539\, United States
CATEGORIES:World Famous Country Breakfast
ATTACH;FMTTYPE=image/jpeg:https://wayoutcenter.com/wp-content/uploads/2023/10/country-breakfast.jpg
END:VEVENT
BEGIN:VEVENT
DTSTART;TZID=America/Chicago:20290820T190000
DTEND;TZID=America/Chicago:20290820T200000
DTSTAMP:20260421T210000
CREATED:20250204T043521Z
LAST-MODIFIED:20250707T194023Z
UID:10003537-1881946800-1881950400@wayoutcenter.com
SUMMARY:AA Meeting - The Cliffside Group
DESCRIPTION:We’re proud to provide a safe and welcoming space for The Cliffside Group – District 81 of Alcoholics Anonymous. These meetings offer encouragement\, understanding\, and support for those walking the recovery journey. \nJoin us every Monday at 6PM—you’re not alone! \n 
URL:https://wayoutcenter.com/event/aa-meeting-the-cliffside-group/2029-08-20/
LOCATION:Way Out Womens Center\, 2670 Ave. D\, San Leon\, TX\, 77539\, United States
CATEGORIES:aa meeting
ATTACH;FMTTYPE=image/jpeg:https://wayoutcenter.com/wp-content/uploads/2025/07/cliffside.jpg
END:VEVENT
END:VCALENDAR