BEGIN:VCALENDAR
VERSION:2.0
PRODID:-//Way Out Womens Center - ECPv6.15.20//NONSGML v1.0//EN
CALSCALE:GREGORIAN
METHOD:PUBLISH
X-ORIGINAL-URL:https://wayoutcenter.com
X-WR-CALDESC:Events for Way Out Womens Center
REFRESH-INTERVAL;VALUE=DURATION:PT1H
X-Robots-Tag:noindex
X-PUBLISHED-TTL:PT1H
BEGIN:VTIMEZONE
TZID:UTC
BEGIN:STANDARD
TZOFFSETFROM:+0000
TZOFFSETTO:+0000
TZNAME:UTC
DTSTART:20280101T000000
END:STANDARD
END:VTIMEZONE
BEGIN:VEVENT
DTSTART;TZID=UTC:20290422T083000
DTEND;TZID=UTC:20290422T110000
DTSTAMP:20260420T144423
CREATED:20231007T012936Z
LAST-MODIFIED:20241229T021823Z
UID:10002998-1871541000-1871550000@wayoutcenter.com
SUMMARY:World Famous Country Breakfast
DESCRIPTION:World Famous Country Breakfast with Speaker Meeting following at 11:30 AM
URL:https://wayoutcenter.com/event/world-famous-country-breakfast/2029-04-22/
LOCATION:Way Out Womens Center\, 2670 Ave. D\, San Leon\, TX\, 77539\, United States
CATEGORIES:World Famous Country Breakfast
ATTACH;FMTTYPE=image/jpeg:https://wayoutcenter.com/wp-content/uploads/2023/10/country-breakfast.jpg
END:VEVENT
BEGIN:VEVENT
DTSTART;TZID=UTC:20290429T083000
DTEND;TZID=UTC:20290429T110000
DTSTAMP:20260420T144423
CREATED:20231007T012936Z
LAST-MODIFIED:20241229T021823Z
UID:10002999-1872145800-1872154800@wayoutcenter.com
SUMMARY:World Famous Country Breakfast
DESCRIPTION:World Famous Country Breakfast with Speaker Meeting following at 11:30 AM
URL:https://wayoutcenter.com/event/world-famous-country-breakfast/2029-04-29/
LOCATION:Way Out Womens Center\, 2670 Ave. D\, San Leon\, TX\, 77539\, United States
CATEGORIES:World Famous Country Breakfast
ATTACH;FMTTYPE=image/jpeg:https://wayoutcenter.com/wp-content/uploads/2023/10/country-breakfast.jpg
END:VEVENT
BEGIN:VEVENT
DTSTART;TZID=UTC:20290506T083000
DTEND;TZID=UTC:20290506T110000
DTSTAMP:20260420T144423
CREATED:20231007T012936Z
LAST-MODIFIED:20241229T021823Z
UID:10003000-1872750600-1872759600@wayoutcenter.com
SUMMARY:World Famous Country Breakfast
DESCRIPTION:World Famous Country Breakfast with Speaker Meeting following at 11:30 AM
URL:https://wayoutcenter.com/event/world-famous-country-breakfast/2029-05-06/
LOCATION:Way Out Womens Center\, 2670 Ave. D\, San Leon\, TX\, 77539\, United States
CATEGORIES:World Famous Country Breakfast
ATTACH;FMTTYPE=image/jpeg:https://wayoutcenter.com/wp-content/uploads/2023/10/country-breakfast.jpg
END:VEVENT
BEGIN:VEVENT
DTSTART;TZID=UTC:20290513T083000
DTEND;TZID=UTC:20290513T110000
DTSTAMP:20260420T144423
CREATED:20231007T012936Z
LAST-MODIFIED:20241229T021823Z
UID:10003001-1873355400-1873364400@wayoutcenter.com
SUMMARY:World Famous Country Breakfast
DESCRIPTION:World Famous Country Breakfast with Speaker Meeting following at 11:30 AM
URL:https://wayoutcenter.com/event/world-famous-country-breakfast/2029-05-13/
LOCATION:Way Out Womens Center\, 2670 Ave. D\, San Leon\, TX\, 77539\, United States
CATEGORIES:World Famous Country Breakfast
ATTACH;FMTTYPE=image/jpeg:https://wayoutcenter.com/wp-content/uploads/2023/10/country-breakfast.jpg
END:VEVENT
BEGIN:VEVENT
DTSTART;TZID=UTC:20290520T083000
DTEND;TZID=UTC:20290520T110000
DTSTAMP:20260420T144423
CREATED:20231007T012936Z
LAST-MODIFIED:20241229T021823Z
UID:10003002-1873960200-1873969200@wayoutcenter.com
SUMMARY:World Famous Country Breakfast
DESCRIPTION:World Famous Country Breakfast with Speaker Meeting following at 11:30 AM
URL:https://wayoutcenter.com/event/world-famous-country-breakfast/2029-05-20/
LOCATION:Way Out Womens Center\, 2670 Ave. D\, San Leon\, TX\, 77539\, United States
CATEGORIES:World Famous Country Breakfast
ATTACH;FMTTYPE=image/jpeg:https://wayoutcenter.com/wp-content/uploads/2023/10/country-breakfast.jpg
END:VEVENT
BEGIN:VEVENT
DTSTART;TZID=UTC:20290527T083000
DTEND;TZID=UTC:20290527T110000
DTSTAMP:20260420T144423
CREATED:20231007T012936Z
LAST-MODIFIED:20241229T021823Z
UID:10003003-1874565000-1874574000@wayoutcenter.com
SUMMARY:World Famous Country Breakfast
DESCRIPTION:World Famous Country Breakfast with Speaker Meeting following at 11:30 AM
URL:https://wayoutcenter.com/event/world-famous-country-breakfast/2029-05-27/
LOCATION:Way Out Womens Center\, 2670 Ave. D\, San Leon\, TX\, 77539\, United States
CATEGORIES:World Famous Country Breakfast
ATTACH;FMTTYPE=image/jpeg:https://wayoutcenter.com/wp-content/uploads/2023/10/country-breakfast.jpg
END:VEVENT
BEGIN:VEVENT
DTSTART;TZID=UTC:20290603T083000
DTEND;TZID=UTC:20290603T110000
DTSTAMP:20260420T144423
CREATED:20231007T012936Z
LAST-MODIFIED:20241229T021823Z
UID:10003004-1875169800-1875178800@wayoutcenter.com
SUMMARY:World Famous Country Breakfast
DESCRIPTION:World Famous Country Breakfast with Speaker Meeting following at 11:30 AM
URL:https://wayoutcenter.com/event/world-famous-country-breakfast/2029-06-03/
LOCATION:Way Out Womens Center\, 2670 Ave. D\, San Leon\, TX\, 77539\, United States
CATEGORIES:World Famous Country Breakfast
ATTACH;FMTTYPE=image/jpeg:https://wayoutcenter.com/wp-content/uploads/2023/10/country-breakfast.jpg
END:VEVENT
BEGIN:VEVENT
DTSTART;TZID=UTC:20290610T083000
DTEND;TZID=UTC:20290610T110000
DTSTAMP:20260420T144423
CREATED:20231007T012936Z
LAST-MODIFIED:20241229T021823Z
UID:10003005-1875774600-1875783600@wayoutcenter.com
SUMMARY:World Famous Country Breakfast
DESCRIPTION:World Famous Country Breakfast with Speaker Meeting following at 11:30 AM
URL:https://wayoutcenter.com/event/world-famous-country-breakfast/2029-06-10/
LOCATION:Way Out Womens Center\, 2670 Ave. D\, San Leon\, TX\, 77539\, United States
CATEGORIES:World Famous Country Breakfast
ATTACH;FMTTYPE=image/jpeg:https://wayoutcenter.com/wp-content/uploads/2023/10/country-breakfast.jpg
END:VEVENT
BEGIN:VEVENT
DTSTART;TZID=UTC:20290617T083000
DTEND;TZID=UTC:20290617T110000
DTSTAMP:20260420T144423
CREATED:20231007T012936Z
LAST-MODIFIED:20241229T021823Z
UID:10003006-1876379400-1876388400@wayoutcenter.com
SUMMARY:World Famous Country Breakfast
DESCRIPTION:World Famous Country Breakfast with Speaker Meeting following at 11:30 AM
URL:https://wayoutcenter.com/event/world-famous-country-breakfast/2029-06-17/
LOCATION:Way Out Womens Center\, 2670 Ave. D\, San Leon\, TX\, 77539\, United States
CATEGORIES:World Famous Country Breakfast
ATTACH;FMTTYPE=image/jpeg:https://wayoutcenter.com/wp-content/uploads/2023/10/country-breakfast.jpg
END:VEVENT
BEGIN:VEVENT
DTSTART;TZID=UTC:20290624T083000
DTEND;TZID=UTC:20290624T110000
DTSTAMP:20260420T144423
CREATED:20231007T012936Z
LAST-MODIFIED:20241229T021823Z
UID:10003007-1876984200-1876993200@wayoutcenter.com
SUMMARY:World Famous Country Breakfast
DESCRIPTION:World Famous Country Breakfast with Speaker Meeting following at 11:30 AM
URL:https://wayoutcenter.com/event/world-famous-country-breakfast/2029-06-24/
LOCATION:Way Out Womens Center\, 2670 Ave. D\, San Leon\, TX\, 77539\, United States
CATEGORIES:World Famous Country Breakfast
ATTACH;FMTTYPE=image/jpeg:https://wayoutcenter.com/wp-content/uploads/2023/10/country-breakfast.jpg
END:VEVENT
BEGIN:VEVENT
DTSTART;TZID=UTC:20290701T083000
DTEND;TZID=UTC:20290701T110000
DTSTAMP:20260420T144423
CREATED:20231007T012936Z
LAST-MODIFIED:20241229T021823Z
UID:10003008-1877589000-1877598000@wayoutcenter.com
SUMMARY:World Famous Country Breakfast
DESCRIPTION:World Famous Country Breakfast with Speaker Meeting following at 11:30 AM
URL:https://wayoutcenter.com/event/world-famous-country-breakfast/2029-07-01/
LOCATION:Way Out Womens Center\, 2670 Ave. D\, San Leon\, TX\, 77539\, United States
CATEGORIES:World Famous Country Breakfast
ATTACH;FMTTYPE=image/jpeg:https://wayoutcenter.com/wp-content/uploads/2023/10/country-breakfast.jpg
END:VEVENT
BEGIN:VEVENT
DTSTART;TZID=UTC:20290708T083000
DTEND;TZID=UTC:20290708T110000
DTSTAMP:20260420T144423
CREATED:20231007T012936Z
LAST-MODIFIED:20241229T021823Z
UID:10003009-1878193800-1878202800@wayoutcenter.com
SUMMARY:World Famous Country Breakfast
DESCRIPTION:World Famous Country Breakfast with Speaker Meeting following at 11:30 AM
URL:https://wayoutcenter.com/event/world-famous-country-breakfast/2029-07-08/
LOCATION:Way Out Womens Center\, 2670 Ave. D\, San Leon\, TX\, 77539\, United States
CATEGORIES:World Famous Country Breakfast
ATTACH;FMTTYPE=image/jpeg:https://wayoutcenter.com/wp-content/uploads/2023/10/country-breakfast.jpg
END:VEVENT
BEGIN:VEVENT
DTSTART;TZID=UTC:20290715T083000
DTEND;TZID=UTC:20290715T110000
DTSTAMP:20260420T144423
CREATED:20231007T012936Z
LAST-MODIFIED:20241229T021823Z
UID:10003010-1878798600-1878807600@wayoutcenter.com
SUMMARY:World Famous Country Breakfast
DESCRIPTION:World Famous Country Breakfast with Speaker Meeting following at 11:30 AM
URL:https://wayoutcenter.com/event/world-famous-country-breakfast/2029-07-15/
LOCATION:Way Out Womens Center\, 2670 Ave. D\, San Leon\, TX\, 77539\, United States
CATEGORIES:World Famous Country Breakfast
ATTACH;FMTTYPE=image/jpeg:https://wayoutcenter.com/wp-content/uploads/2023/10/country-breakfast.jpg
END:VEVENT
BEGIN:VEVENT
DTSTART;TZID=UTC:20290722T083000
DTEND;TZID=UTC:20290722T110000
DTSTAMP:20260420T144423
CREATED:20231007T012936Z
LAST-MODIFIED:20241229T021823Z
UID:10003011-1879403400-1879412400@wayoutcenter.com
SUMMARY:World Famous Country Breakfast
DESCRIPTION:World Famous Country Breakfast with Speaker Meeting following at 11:30 AM
URL:https://wayoutcenter.com/event/world-famous-country-breakfast/2029-07-22/
LOCATION:Way Out Womens Center\, 2670 Ave. D\, San Leon\, TX\, 77539\, United States
CATEGORIES:World Famous Country Breakfast
ATTACH;FMTTYPE=image/jpeg:https://wayoutcenter.com/wp-content/uploads/2023/10/country-breakfast.jpg
END:VEVENT
BEGIN:VEVENT
DTSTART;TZID=UTC:20290729T083000
DTEND;TZID=UTC:20290729T110000
DTSTAMP:20260420T144423
CREATED:20231007T012936Z
LAST-MODIFIED:20241229T021823Z
UID:10003012-1880008200-1880017200@wayoutcenter.com
SUMMARY:World Famous Country Breakfast
DESCRIPTION:World Famous Country Breakfast with Speaker Meeting following at 11:30 AM
URL:https://wayoutcenter.com/event/world-famous-country-breakfast/2029-07-29/
LOCATION:Way Out Womens Center\, 2670 Ave. D\, San Leon\, TX\, 77539\, United States
CATEGORIES:World Famous Country Breakfast
ATTACH;FMTTYPE=image/jpeg:https://wayoutcenter.com/wp-content/uploads/2023/10/country-breakfast.jpg
END:VEVENT
BEGIN:VEVENT
DTSTART;TZID=UTC:20290805T083000
DTEND;TZID=UTC:20290805T110000
DTSTAMP:20260420T144423
CREATED:20231007T012936Z
LAST-MODIFIED:20241229T021823Z
UID:10003013-1880613000-1880622000@wayoutcenter.com
SUMMARY:World Famous Country Breakfast
DESCRIPTION:World Famous Country Breakfast with Speaker Meeting following at 11:30 AM
URL:https://wayoutcenter.com/event/world-famous-country-breakfast/2029-08-05/
LOCATION:Way Out Womens Center\, 2670 Ave. D\, San Leon\, TX\, 77539\, United States
CATEGORIES:World Famous Country Breakfast
ATTACH;FMTTYPE=image/jpeg:https://wayoutcenter.com/wp-content/uploads/2023/10/country-breakfast.jpg
END:VEVENT
BEGIN:VEVENT
DTSTART;TZID=UTC:20290812T083000
DTEND;TZID=UTC:20290812T110000
DTSTAMP:20260420T144423
CREATED:20231007T012936Z
LAST-MODIFIED:20241229T021823Z
UID:10003014-1881217800-1881226800@wayoutcenter.com
SUMMARY:World Famous Country Breakfast
DESCRIPTION:World Famous Country Breakfast with Speaker Meeting following at 11:30 AM
URL:https://wayoutcenter.com/event/world-famous-country-breakfast/2029-08-12/
LOCATION:Way Out Womens Center\, 2670 Ave. D\, San Leon\, TX\, 77539\, United States
CATEGORIES:World Famous Country Breakfast
ATTACH;FMTTYPE=image/jpeg:https://wayoutcenter.com/wp-content/uploads/2023/10/country-breakfast.jpg
END:VEVENT
BEGIN:VEVENT
DTSTART;TZID=UTC:20290819T083000
DTEND;TZID=UTC:20290819T110000
DTSTAMP:20260420T144423
CREATED:20231007T012936Z
LAST-MODIFIED:20241229T021823Z
UID:10003015-1881822600-1881831600@wayoutcenter.com
SUMMARY:World Famous Country Breakfast
DESCRIPTION:World Famous Country Breakfast with Speaker Meeting following at 11:30 AM
URL:https://wayoutcenter.com/event/world-famous-country-breakfast/2029-08-19/
LOCATION:Way Out Womens Center\, 2670 Ave. D\, San Leon\, TX\, 77539\, United States
CATEGORIES:World Famous Country Breakfast
ATTACH;FMTTYPE=image/jpeg:https://wayoutcenter.com/wp-content/uploads/2023/10/country-breakfast.jpg
END:VEVENT
BEGIN:VEVENT
DTSTART;TZID=UTC:20290826T083000
DTEND;TZID=UTC:20290826T110000
DTSTAMP:20260420T144423
CREATED:20231007T012936Z
LAST-MODIFIED:20241229T021823Z
UID:10003016-1882427400-1882436400@wayoutcenter.com
SUMMARY:World Famous Country Breakfast
DESCRIPTION:World Famous Country Breakfast with Speaker Meeting following at 11:30 AM
URL:https://wayoutcenter.com/event/world-famous-country-breakfast/2029-08-26/
LOCATION:Way Out Womens Center\, 2670 Ave. D\, San Leon\, TX\, 77539\, United States
CATEGORIES:World Famous Country Breakfast
ATTACH;FMTTYPE=image/jpeg:https://wayoutcenter.com/wp-content/uploads/2023/10/country-breakfast.jpg
END:VEVENT
BEGIN:VEVENT
DTSTART;TZID=UTC:20290902T083000
DTEND;TZID=UTC:20290902T110000
DTSTAMP:20260420T144423
CREATED:20231007T012936Z
LAST-MODIFIED:20241229T021823Z
UID:10003017-1883032200-1883041200@wayoutcenter.com
SUMMARY:World Famous Country Breakfast
DESCRIPTION:World Famous Country Breakfast with Speaker Meeting following at 11:30 AM
URL:https://wayoutcenter.com/event/world-famous-country-breakfast/2029-09-02/
LOCATION:Way Out Womens Center\, 2670 Ave. D\, San Leon\, TX\, 77539\, United States
CATEGORIES:World Famous Country Breakfast
ATTACH;FMTTYPE=image/jpeg:https://wayoutcenter.com/wp-content/uploads/2023/10/country-breakfast.jpg
END:VEVENT
BEGIN:VEVENT
DTSTART;TZID=UTC:20290909T083000
DTEND;TZID=UTC:20290909T110000
DTSTAMP:20260420T144423
CREATED:20231007T012936Z
LAST-MODIFIED:20241229T021823Z
UID:10003018-1883637000-1883646000@wayoutcenter.com
SUMMARY:World Famous Country Breakfast
DESCRIPTION:World Famous Country Breakfast with Speaker Meeting following at 11:30 AM
URL:https://wayoutcenter.com/event/world-famous-country-breakfast/2029-09-09/
LOCATION:Way Out Womens Center\, 2670 Ave. D\, San Leon\, TX\, 77539\, United States
CATEGORIES:World Famous Country Breakfast
ATTACH;FMTTYPE=image/jpeg:https://wayoutcenter.com/wp-content/uploads/2023/10/country-breakfast.jpg
END:VEVENT
BEGIN:VEVENT
DTSTART;TZID=UTC:20290916T083000
DTEND;TZID=UTC:20290916T110000
DTSTAMP:20260420T144423
CREATED:20231007T012936Z
LAST-MODIFIED:20241229T021823Z
UID:10003019-1884241800-1884250800@wayoutcenter.com
SUMMARY:World Famous Country Breakfast
DESCRIPTION:World Famous Country Breakfast with Speaker Meeting following at 11:30 AM
URL:https://wayoutcenter.com/event/world-famous-country-breakfast/2029-09-16/
LOCATION:Way Out Womens Center\, 2670 Ave. D\, San Leon\, TX\, 77539\, United States
CATEGORIES:World Famous Country Breakfast
ATTACH;FMTTYPE=image/jpeg:https://wayoutcenter.com/wp-content/uploads/2023/10/country-breakfast.jpg
END:VEVENT
BEGIN:VEVENT
DTSTART;TZID=UTC:20290923T083000
DTEND;TZID=UTC:20290923T110000
DTSTAMP:20260420T144423
CREATED:20231007T012936Z
LAST-MODIFIED:20241229T021823Z
UID:10003020-1884846600-1884855600@wayoutcenter.com
SUMMARY:World Famous Country Breakfast
DESCRIPTION:World Famous Country Breakfast with Speaker Meeting following at 11:30 AM
URL:https://wayoutcenter.com/event/world-famous-country-breakfast/2029-09-23/
LOCATION:Way Out Womens Center\, 2670 Ave. D\, San Leon\, TX\, 77539\, United States
CATEGORIES:World Famous Country Breakfast
ATTACH;FMTTYPE=image/jpeg:https://wayoutcenter.com/wp-content/uploads/2023/10/country-breakfast.jpg
END:VEVENT
BEGIN:VEVENT
DTSTART;TZID=UTC:20290930T083000
DTEND;TZID=UTC:20290930T110000
DTSTAMP:20260420T144423
CREATED:20231007T012936Z
LAST-MODIFIED:20241229T021823Z
UID:10003021-1885451400-1885460400@wayoutcenter.com
SUMMARY:World Famous Country Breakfast
DESCRIPTION:World Famous Country Breakfast with Speaker Meeting following at 11:30 AM
URL:https://wayoutcenter.com/event/world-famous-country-breakfast/2029-09-30/
LOCATION:Way Out Womens Center\, 2670 Ave. D\, San Leon\, TX\, 77539\, United States
CATEGORIES:World Famous Country Breakfast
ATTACH;FMTTYPE=image/jpeg:https://wayoutcenter.com/wp-content/uploads/2023/10/country-breakfast.jpg
END:VEVENT
BEGIN:VEVENT
DTSTART;TZID=UTC:20291007T083000
DTEND;TZID=UTC:20291007T110000
DTSTAMP:20260420T144423
CREATED:20231007T012936Z
LAST-MODIFIED:20241229T021823Z
UID:10003022-1886056200-1886065200@wayoutcenter.com
SUMMARY:World Famous Country Breakfast
DESCRIPTION:World Famous Country Breakfast with Speaker Meeting following at 11:30 AM
URL:https://wayoutcenter.com/event/world-famous-country-breakfast/2029-10-07/
LOCATION:Way Out Womens Center\, 2670 Ave. D\, San Leon\, TX\, 77539\, United States
CATEGORIES:World Famous Country Breakfast
ATTACH;FMTTYPE=image/jpeg:https://wayoutcenter.com/wp-content/uploads/2023/10/country-breakfast.jpg
END:VEVENT
BEGIN:VEVENT
DTSTART;TZID=UTC:20291014T083000
DTEND;TZID=UTC:20291014T110000
DTSTAMP:20260420T144423
CREATED:20231007T012936Z
LAST-MODIFIED:20241229T021823Z
UID:10003023-1886661000-1886670000@wayoutcenter.com
SUMMARY:World Famous Country Breakfast
DESCRIPTION:World Famous Country Breakfast with Speaker Meeting following at 11:30 AM
URL:https://wayoutcenter.com/event/world-famous-country-breakfast/2029-10-14/
LOCATION:Way Out Womens Center\, 2670 Ave. D\, San Leon\, TX\, 77539\, United States
CATEGORIES:World Famous Country Breakfast
ATTACH;FMTTYPE=image/jpeg:https://wayoutcenter.com/wp-content/uploads/2023/10/country-breakfast.jpg
END:VEVENT
BEGIN:VEVENT
DTSTART;TZID=UTC:20291021T083000
DTEND;TZID=UTC:20291021T110000
DTSTAMP:20260420T144423
CREATED:20231007T012936Z
LAST-MODIFIED:20241229T021823Z
UID:10003024-1887265800-1887274800@wayoutcenter.com
SUMMARY:World Famous Country Breakfast
DESCRIPTION:World Famous Country Breakfast with Speaker Meeting following at 11:30 AM
URL:https://wayoutcenter.com/event/world-famous-country-breakfast/2029-10-21/
LOCATION:Way Out Womens Center\, 2670 Ave. D\, San Leon\, TX\, 77539\, United States
CATEGORIES:World Famous Country Breakfast
ATTACH;FMTTYPE=image/jpeg:https://wayoutcenter.com/wp-content/uploads/2023/10/country-breakfast.jpg
END:VEVENT
BEGIN:VEVENT
DTSTART;TZID=UTC:20291028T083000
DTEND;TZID=UTC:20291028T110000
DTSTAMP:20260420T144423
CREATED:20231007T012936Z
LAST-MODIFIED:20241229T021823Z
UID:10003025-1887870600-1887879600@wayoutcenter.com
SUMMARY:World Famous Country Breakfast
DESCRIPTION:World Famous Country Breakfast with Speaker Meeting following at 11:30 AM
URL:https://wayoutcenter.com/event/world-famous-country-breakfast/2029-10-28/
LOCATION:Way Out Womens Center\, 2670 Ave. D\, San Leon\, TX\, 77539\, United States
CATEGORIES:World Famous Country Breakfast
ATTACH;FMTTYPE=image/jpeg:https://wayoutcenter.com/wp-content/uploads/2023/10/country-breakfast.jpg
END:VEVENT
BEGIN:VEVENT
DTSTART;TZID=UTC:20291104T083000
DTEND;TZID=UTC:20291104T110000
DTSTAMP:20260420T144423
CREATED:20231007T012936Z
LAST-MODIFIED:20241229T021823Z
UID:10003026-1888475400-1888484400@wayoutcenter.com
SUMMARY:World Famous Country Breakfast
DESCRIPTION:World Famous Country Breakfast with Speaker Meeting following at 11:30 AM
URL:https://wayoutcenter.com/event/world-famous-country-breakfast/2029-11-04/
LOCATION:Way Out Womens Center\, 2670 Ave. D\, San Leon\, TX\, 77539\, United States
CATEGORIES:World Famous Country Breakfast
ATTACH;FMTTYPE=image/jpeg:https://wayoutcenter.com/wp-content/uploads/2023/10/country-breakfast.jpg
END:VEVENT
BEGIN:VEVENT
DTSTART;TZID=UTC:20291111T083000
DTEND;TZID=UTC:20291111T110000
DTSTAMP:20260420T144423
CREATED:20231007T012936Z
LAST-MODIFIED:20241229T021823Z
UID:10003027-1889080200-1889089200@wayoutcenter.com
SUMMARY:World Famous Country Breakfast
DESCRIPTION:World Famous Country Breakfast with Speaker Meeting following at 11:30 AM
URL:https://wayoutcenter.com/event/world-famous-country-breakfast/2029-11-11/
LOCATION:Way Out Womens Center\, 2670 Ave. D\, San Leon\, TX\, 77539\, United States
CATEGORIES:World Famous Country Breakfast
ATTACH;FMTTYPE=image/jpeg:https://wayoutcenter.com/wp-content/uploads/2023/10/country-breakfast.jpg
END:VEVENT
END:VCALENDAR