BEGIN:VCALENDAR
VERSION:2.0
PRODID:-//Way Out Womens Center - ECPv6.15.20//NONSGML v1.0//EN
CALSCALE:GREGORIAN
METHOD:PUBLISH
X-ORIGINAL-URL:https://wayoutcenter.com
X-WR-CALDESC:Events for Way Out Womens Center
REFRESH-INTERVAL;VALUE=DURATION:PT1H
X-Robots-Tag:noindex
X-PUBLISHED-TTL:PT1H
BEGIN:VTIMEZONE
TZID:America/Chicago
BEGIN:DAYLIGHT
TZOFFSETFROM:-0600
TZOFFSETTO:-0500
TZNAME:CDT
DTSTART:20240310T080000
END:DAYLIGHT
BEGIN:STANDARD
TZOFFSETFROM:-0500
TZOFFSETTO:-0600
TZNAME:CST
DTSTART:20241103T070000
END:STANDARD
BEGIN:DAYLIGHT
TZOFFSETFROM:-0600
TZOFFSETTO:-0500
TZNAME:CDT
DTSTART:20250309T080000
END:DAYLIGHT
BEGIN:STANDARD
TZOFFSETFROM:-0500
TZOFFSETTO:-0600
TZNAME:CST
DTSTART:20251102T070000
END:STANDARD
BEGIN:DAYLIGHT
TZOFFSETFROM:-0600
TZOFFSETTO:-0500
TZNAME:CDT
DTSTART:20260308T080000
END:DAYLIGHT
BEGIN:STANDARD
TZOFFSETFROM:-0500
TZOFFSETTO:-0600
TZNAME:CST
DTSTART:20261101T070000
END:STANDARD
END:VTIMEZONE
BEGIN:VEVENT
DTSTART;TZID=America/Chicago:20250621T170000
DTEND;TZID=America/Chicago:20250621T210000
DTSTAMP:20260424T105709
CREATED:20250611T000120Z
LAST-MODIFIED:20250611T000120Z
UID:10003299-1750525200-1750539600@wayoutcenter.com
SUMMARY:Food and Fellowship
DESCRIPTION:Postive Recovery Center presents:\nFOOD & FELLOWSHIP benefitting The Way Out Center! \nJoin us at WOWC on Saturday\, June 21st for a delicious Baked Chicken Lasagna Primavera dinner – all for a great cause! \n🗓️ Date: June 21st\n🕔 Time: 5:00–9:00 PM\n📍 Location: Walter Hall Park – League City\, TX\n💫 Speaker: Bridget D. (8/9/2021)\n✨ Dinner : Baked Chicken Lasagna Primavera   \nWe are honored to welcome our Guest Speaker\, Bridget D. (sobriety date: August 8\, 2021)\, who brings wisdom\, strength\, and hope to share with our recovery community. \nMake plans now to be part of this amazing evening of food\, fellowship\, and inspiration!  \nPlease share this event with friends—all are welcome\, and proceeds benefit The Way Out Center. \n#NewBeginnings #TheWayOutWomensCenter #RecoveryJourney #Empowerment #DetoxWithCare #NonProfit #Support #Community #AddictionRecovery
URL:https://wayoutcenter.com/event/food-and-fellowship/
CATEGORIES:Food and Fellowship
ATTACH;FMTTYPE=image/png:https://wayoutcenter.com/wp-content/uploads/2025/06/food-and-fellowship-2.png
END:VEVENT
END:VCALENDAR