BEGIN:VCALENDAR
VERSION:2.0
PRODID:-//Way Out Womens Center - ECPv6.15.20//NONSGML v1.0//EN
CALSCALE:GREGORIAN
METHOD:PUBLISH
X-ORIGINAL-URL:https://wayoutcenter.com
X-WR-CALDESC:Events for Way Out Womens Center
REFRESH-INTERVAL;VALUE=DURATION:PT1H
X-Robots-Tag:noindex
X-PUBLISHED-TTL:PT1H
BEGIN:VTIMEZONE
TZID:America/Chicago
BEGIN:DAYLIGHT
TZOFFSETFROM:-0600
TZOFFSETTO:-0500
TZNAME:CDT
DTSTART:20260308T080000
END:DAYLIGHT
BEGIN:STANDARD
TZOFFSETFROM:-0500
TZOFFSETTO:-0600
TZNAME:CST
DTSTART:20261101T070000
END:STANDARD
BEGIN:DAYLIGHT
TZOFFSETFROM:-0600
TZOFFSETTO:-0500
TZNAME:CDT
DTSTART:20270314T080000
END:DAYLIGHT
BEGIN:STANDARD
TZOFFSETFROM:-0500
TZOFFSETTO:-0600
TZNAME:CST
DTSTART:20271107T070000
END:STANDARD
BEGIN:DAYLIGHT
TZOFFSETFROM:-0600
TZOFFSETTO:-0500
TZNAME:CDT
DTSTART:20280312T080000
END:DAYLIGHT
BEGIN:STANDARD
TZOFFSETFROM:-0500
TZOFFSETTO:-0600
TZNAME:CST
DTSTART:20281105T070000
END:STANDARD
END:VTIMEZONE
BEGIN:VEVENT
DTSTART;TZID=America/Chicago:20270503T190000
DTEND;TZID=America/Chicago:20270503T200000
DTSTAMP:20260423T151727
CREATED:20250204T043521Z
LAST-MODIFIED:20250707T194023Z
UID:10003417-1809370800-1809374400@wayoutcenter.com
SUMMARY:AA Meeting - The Cliffside Group
DESCRIPTION:We’re proud to provide a safe and welcoming space for The Cliffside Group – District 81 of Alcoholics Anonymous. These meetings offer encouragement\, understanding\, and support for those walking the recovery journey. \nJoin us every Monday at 6PM—you’re not alone! \n 
URL:https://wayoutcenter.com/event/aa-meeting-the-cliffside-group/2027-05-03/
LOCATION:Way Out Womens Center\, 2670 Ave. D\, San Leon\, TX\, 77539\, United States
CATEGORIES:aa meeting
ATTACH;FMTTYPE=image/jpeg:https://wayoutcenter.com/wp-content/uploads/2025/07/cliffside.jpg
END:VEVENT
BEGIN:VEVENT
DTSTART;TZID=America/Chicago:20270510T190000
DTEND;TZID=America/Chicago:20270510T200000
DTSTAMP:20260423T151727
CREATED:20250204T043521Z
LAST-MODIFIED:20250707T194023Z
UID:10003418-1809975600-1809979200@wayoutcenter.com
SUMMARY:AA Meeting - The Cliffside Group
DESCRIPTION:We’re proud to provide a safe and welcoming space for The Cliffside Group – District 81 of Alcoholics Anonymous. These meetings offer encouragement\, understanding\, and support for those walking the recovery journey. \nJoin us every Monday at 6PM—you’re not alone! \n 
URL:https://wayoutcenter.com/event/aa-meeting-the-cliffside-group/2027-05-10/
LOCATION:Way Out Womens Center\, 2670 Ave. D\, San Leon\, TX\, 77539\, United States
CATEGORIES:aa meeting
ATTACH;FMTTYPE=image/jpeg:https://wayoutcenter.com/wp-content/uploads/2025/07/cliffside.jpg
END:VEVENT
BEGIN:VEVENT
DTSTART;TZID=America/Chicago:20270517T190000
DTEND;TZID=America/Chicago:20270517T200000
DTSTAMP:20260423T151727
CREATED:20250204T043521Z
LAST-MODIFIED:20250707T194023Z
UID:10003419-1810580400-1810584000@wayoutcenter.com
SUMMARY:AA Meeting - The Cliffside Group
DESCRIPTION:We’re proud to provide a safe and welcoming space for The Cliffside Group – District 81 of Alcoholics Anonymous. These meetings offer encouragement\, understanding\, and support for those walking the recovery journey. \nJoin us every Monday at 6PM—you’re not alone! \n 
URL:https://wayoutcenter.com/event/aa-meeting-the-cliffside-group/2027-05-17/
LOCATION:Way Out Womens Center\, 2670 Ave. D\, San Leon\, TX\, 77539\, United States
CATEGORIES:aa meeting
ATTACH;FMTTYPE=image/jpeg:https://wayoutcenter.com/wp-content/uploads/2025/07/cliffside.jpg
END:VEVENT
BEGIN:VEVENT
DTSTART;TZID=America/Chicago:20270524T190000
DTEND;TZID=America/Chicago:20270524T200000
DTSTAMP:20260423T151727
CREATED:20250204T043521Z
LAST-MODIFIED:20250707T194023Z
UID:10003420-1811185200-1811188800@wayoutcenter.com
SUMMARY:AA Meeting - The Cliffside Group
DESCRIPTION:We’re proud to provide a safe and welcoming space for The Cliffside Group – District 81 of Alcoholics Anonymous. These meetings offer encouragement\, understanding\, and support for those walking the recovery journey. \nJoin us every Monday at 6PM—you’re not alone! \n 
URL:https://wayoutcenter.com/event/aa-meeting-the-cliffside-group/2027-05-24/
LOCATION:Way Out Womens Center\, 2670 Ave. D\, San Leon\, TX\, 77539\, United States
CATEGORIES:aa meeting
ATTACH;FMTTYPE=image/jpeg:https://wayoutcenter.com/wp-content/uploads/2025/07/cliffside.jpg
END:VEVENT
BEGIN:VEVENT
DTSTART;TZID=America/Chicago:20270531T190000
DTEND;TZID=America/Chicago:20270531T200000
DTSTAMP:20260423T151727
CREATED:20250204T043521Z
LAST-MODIFIED:20250707T194023Z
UID:10003421-1811790000-1811793600@wayoutcenter.com
SUMMARY:AA Meeting - The Cliffside Group
DESCRIPTION:We’re proud to provide a safe and welcoming space for The Cliffside Group – District 81 of Alcoholics Anonymous. These meetings offer encouragement\, understanding\, and support for those walking the recovery journey. \nJoin us every Monday at 6PM—you’re not alone! \n 
URL:https://wayoutcenter.com/event/aa-meeting-the-cliffside-group/2027-05-31/
LOCATION:Way Out Womens Center\, 2670 Ave. D\, San Leon\, TX\, 77539\, United States
CATEGORIES:aa meeting
ATTACH;FMTTYPE=image/jpeg:https://wayoutcenter.com/wp-content/uploads/2025/07/cliffside.jpg
END:VEVENT
END:VCALENDAR