BEGIN:VCALENDAR
VERSION:2.0
PRODID:-//Way Out Womens Center - ECPv6.15.20//NONSGML v1.0//EN
CALSCALE:GREGORIAN
METHOD:PUBLISH
X-WR-CALNAME:Way Out Womens Center
X-ORIGINAL-URL:https://wayoutcenter.com
X-WR-CALDESC:Events for Way Out Womens Center
REFRESH-INTERVAL;VALUE=DURATION:PT1H
X-Robots-Tag:noindex
X-PUBLISHED-TTL:PT1H
BEGIN:VTIMEZONE
TZID:America/Chicago
BEGIN:DAYLIGHT
TZOFFSETFROM:-0600
TZOFFSETTO:-0500
TZNAME:CDT
DTSTART:20230312T080000
END:DAYLIGHT
BEGIN:STANDARD
TZOFFSETFROM:-0500
TZOFFSETTO:-0600
TZNAME:CST
DTSTART:20231105T070000
END:STANDARD
BEGIN:DAYLIGHT
TZOFFSETFROM:-0600
TZOFFSETTO:-0500
TZNAME:CDT
DTSTART:20240310T080000
END:DAYLIGHT
BEGIN:STANDARD
TZOFFSETFROM:-0500
TZOFFSETTO:-0600
TZNAME:CST
DTSTART:20241103T070000
END:STANDARD
BEGIN:DAYLIGHT
TZOFFSETFROM:-0600
TZOFFSETTO:-0500
TZNAME:CDT
DTSTART:20250309T080000
END:DAYLIGHT
BEGIN:STANDARD
TZOFFSETFROM:-0500
TZOFFSETTO:-0600
TZNAME:CST
DTSTART:20251102T070000
END:STANDARD
END:VTIMEZONE
BEGIN:VTIMEZONE
TZID:UTC
BEGIN:STANDARD
TZOFFSETFROM:+0000
TZOFFSETTO:+0000
TZNAME:UTC
DTSTART:20230101T000000
END:STANDARD
END:VTIMEZONE
BEGIN:VEVENT
DTSTART;TZID=America/Chicago:20241229T080000
DTEND;TZID=America/Chicago:20241229T170000
DTSTAMP:20260423T042837
CREATED:20240223T181733Z
LAST-MODIFIED:20241229T021910Z
UID:10003035-1735459200-1735491600@wayoutcenter.com
SUMMARY:Eat & Speak Cancelled
DESCRIPTION:Eat & Speak on February 25th is cancelled – we have a case of COVID in the house. We hope to see you next week!
URL:https://wayoutcenter.com/event/eat-speak-cancelled/2024-12-29/
LOCATION:Way Out Womens Center\, 2670 Ave. D\, San Leon\, TX\, 77539\, United States
ATTACH;FMTTYPE=image/png:https://wayoutcenter.com/wp-content/uploads/2024/02/WAYOUTCENTER.png
END:VEVENT
BEGIN:VEVENT
DTSTART;TZID=UTC:20241229T113000
DTEND;TZID=UTC:20241229T123000
DTSTAMP:20260423T042837
CREATED:20231006T102824Z
LAST-MODIFIED:20240223T181850Z
UID:10000614-1735471800-1735475400@wayoutcenter.com
SUMMARY:Speaker Meeting
DESCRIPTION:Hosted by the WOWC. \nEvery Sunday at 11:30am\, following our WORLD FAMOUS COUNTRY BREAKFAST\, come on out to hear amazing speakers from various 12 step fellowships.
URL:https://wayoutcenter.com/event/speaker-meeting/2024-12-29/
LOCATION:Way Out Womens Center\, 2670 Ave. D\, San Leon\, TX\, 77539\, United States
END:VEVENT
END:VCALENDAR